Workbook

Sheet 1枚目
F1: 2026年度 | H1: 堺市テニス協会登録会員名簿(メール用)
B3: 代表者(理事)氏名 | H3: 団 体 名
B4: 住 所 | D4: 〒
B5: e-mail : | L5: 電話
B6: 上記住所ではなく他の住所に郵送希望の場合は、下記項目を記入ください。
B7: 郵送先氏名 | L7: 電話
B8: 郵送先住所 | D8: 〒
B10: 氏 名 | C10: 年齢 | E10: 〒 | H10: 自 宅 住 所 | K10: 電 話 | O10: 登録大会
A11: 1 | P11: あしかが | S11: クラブ
A12: 2 | P12: あだち | S12: 種目
A13: 3 | P13: あらい | S13: 秋季
A14: 4 | P14: いまもと | S14: オープン
A15: 5 | P15: おがわ | S15: レディース
A16: 6 | P16: かねたか | S16: マスターズ
A17: 7 | P17: かみや
A18: 8 | P18: かわはら
A19: 9 | P19: さいつ
A20: 10 | P20: たけだ
A21: 11 | P21: たつの
A22: 12 | P22: たねべ
A23: 13 | P23: たばた
A24: 14 | P24: なかひら
A25: 15 | P25: はやせ
A26: 16 | P26: やまだ
A27: 17 | P27: やまもと
A28: 18
A29: 19
A30: 20
A31: 21
A32: 22
A33: 23
A34: 24
A35: 25
A36: 26
A37: 27
A38: 28
A39: 29
A40: 30
C42: 色セルのみ入力して下さい。 | K42: 男 | M42: 女 | O42: 合計
O43: =IF(K43+N43=0,"",SUM(K43:N44))
B44: (1)31名以上の場合は、「2枚目」シートを使用し登録して下さい。
B45: (2)登録した大会を次のようにプルダウンで選んで下さい。
B46: 例：クラブ対抗テニス→クラブ 種目別テニス→種目 オープンテニス→オープン
B47: 秋季テニス→秋季 レディーステニス→レディース マスターズテニス→マスターズ
B48: ※本名簿は堺市テニス協会主催の大会にのみ使用し、保存期間は1年間とする。
B49: (3)堺市テニス協会登録費は2,000円/人です。但し、マスターズ時登録は1000円です。

Sheet 2枚目
F1: ='1枚目'!F1 -> 2026年度 | H1: ='1枚目'!H1 -> 堺市テニス協会登録会員名簿(メール用)
B3: 代表者(理事)氏名 | D3: ='1枚目'!D3 -> 0 | H3: 団 体 名 | J3: ='1枚目'!J3 -> 0
B4: 住 所 | D4: 〒 | E4: ='1枚目'!E4 -> 0 | H4: ='1枚目'!H4 -> 0
B5: e-mail : | D5: ='1枚目'!D5 -> 0 | L5: 電話 | N5: ='1枚目'!N5 -> 0
B6: 上記住所ではなく他の住所に郵送希望の場合は、下記項目を記入ください。
B7: 郵送先氏名 | D7: =IF('1枚目'!D7="","",'1枚目'!D7) | L7: 電話 | N7: =IF('1枚目'!N7="","",'1枚目'!N7)
B8: 郵送先住所 | D8: 〒 | E8: =IF('1枚目'!E8="","",'1枚目'!E8) | H8: =IF('1枚目'!H8="","",'1枚目'!H8)
B10: 氏 名 | C10: 年齢 | E10: 〒 | H10: 自 宅 住 所 | K10: 電 話 | O10: 登録大会
A11: 1 | P11: あしかが | S11: クラブ
A12: 2 | P12: あだち | S12: 種目
A13: 3 | P13: あらい | S13: 秋季
A14: 4 | P14: いまもと | S14: オープン
A15: 5 | P15: おがわ | S15: レディース
A16: 6 | P16: かねたか | S16: マスターズ
A17: 7 | P17: かみや
A18: 8 | P18: かわはら
A19: 9 | P19: さいつ
A20: 10 | P20: たけだ
A21: 11 | P21: たつの
A22: 12 | P22: たねべ
A23: 13 | P23: たばた
A24: 14 | P24: なかひら
A25: 15 | P25: はやせ
A26: 16 | P26: やまだ
A27: 17 | P27: やまもと
A28: 18
A29: 19
A30: 20
A31: 21
A32: 22
A33: 23
A34: 24
A35: 25
A36: 26
A37: 27
A38: 28
A39: 29
A40: 30
C42: 色セルのみ入力して下さい。 | K42: 男 | M42: 女 | O42: 合計
O43: =IF(K43+N43=0,"",SUM(K43:N44))
B44: (1)61名以上の場合は、「3枚目」シートを使用し登録して下さい。
B45: (2)登録した大会を次のようにプルダウンで選んで下さい。
B46: 例：クラブ対抗テニス→クラブ 種目別テニス→種目 オープンテニス→オープン
B47: 秋季テニス→秋季 レディーステニス→レディース マスターズテニス→マスターズ
B48: ※本名簿は堺市テニス協会主催の大会にのみ使用し、保存期間は1年間とする。
B49: (3)堺市テニス協会登録費は2,000円/人です。但し、マスターズ時登録は1000円です。

Sheet 3枚目
F1: ='1枚目'!F1 -> 2026年度 | H1: ='1枚目'!H1 -> 堺市テニス協会登録会員名簿(メール用)
B3: 代表者(理事)氏名 | D3: ='1枚目'!D3 -> 0 | H3: 団 体 名 | J3: ='1枚目'!J3 -> 0
B4: 住 所 | D4: 〒 | E4: ='1枚目'!E4 -> 0 | H4: ='1枚目'!H4 -> 0
B5: e-mail : | D5: ='1枚目'!D5 -> 0 | L5: 電話 | N5: ='1枚目'!N5 -> 0
B6: 上記住所ではなく他の住所に郵送希望の場合は、下記項目を記入ください。
B7: 郵送先氏名 | D7: =IF('1枚目'!D7="","",'1枚目'!D7) | L7: 電話 | N7: =IF('1枚目'!N7="","",'1枚目'!N7)
B8: 郵送先住所 | D8: 〒 | E8: =IF('1枚目'!E8="","",'1枚目'!E8) | H8: =IF('1枚目'!H8="","",'1枚目'!H8)
B10: 氏 名 | C10: 年齢 | E10: 〒 | H10: 自 宅 住 所 | K10: 電 話 | O10: 登録大会
A11: 1 | P11: あしかが | S11: クラブ
A12: 2 | P12: あだち | S12: 種目
A13: 3 | P13: あらい | S13: 秋季
A14: 4 | P14: いまもと | S14: オープン
A15: 5 | P15: おがわ | S15: レディース
A16: 6 | P16: かねたか | S16: マスターズ
A17: 7 | P17: かみや
A18: 8 | P18: かわはら
A19: 9 | P19: さいつ
A20: 10 | P20: たけだ
A21: 11 | P21: たつの
A22: 12 | P22: たねべ
A23: 13 | P23: たばた
A24: 14 | P24: なかひら
A25: 15 | P25: はやせ
A26: 16 | P26: やまだ
A27: 17 | P27: やまもと
A28: 18
A29: 19
A30: 20
A31: 21
A32: 22
A33: 23
A34: 24
A35: 25
A36: 26
A37: 27
A38: 28
A39: 29
A40: 30
C42: 色セルのみ入力して下さい。 | K42: 男 | M42: 女 | O42: 合計
O43: =IF(K43+N43=0,"",SUM(K43:N44))
B44: (1)91名以上の場合は、「3枚目」シートを使用し登録して下さい。
B45: (2)登録した大会を次のようにプルダウンで選んで下さい。
B46: 例：クラブ対抗テニス→クラブ 種目別テニス→種目 オープンテニス→オープン
B47: 秋季テニス→秋季 レディーステニス→レディース マスターズテニス→マスターズ
B48: ※本名簿は堺市テニス協会主催の大会にのみ使用し、保存期間は1年間とする。
B49: (3)堺市テニス協会登録費は2,000円/人です。但し、マスターズ時登録は1000円です。

Sheet 4枚目
F1: ='1枚目'!F1 -> 2026年度 | H1: ='1枚目'!H1 -> 堺市テニス協会登録会員名簿(メール用)
B3: 代表者(理事)氏名 | D3: ='1枚目'!D3 -> 0 | H3: 団 体 名 | J3: ='1枚目'!J3 -> 0
B4: 住 所 | D4: 〒 | E4: ='1枚目'!E4 -> 0 | H4: ='1枚目'!H4 -> 0
B5: e-mail : | D5: ='1枚目'!D5 -> 0 | L5: 電話 | N5: ='1枚目'!N5 -> 0
B6: 上記住所ではなく他の住所に郵送希望の場合は、下記項目を記入ください。
B7: 郵送先氏名 | D7: =IF('1枚目'!D7="","",'1枚目'!D7) | L7: 電話 | N7: =IF('1枚目'!N7="","",'1枚目'!N7)
B8: 郵送先住所 | D8: 〒 | E8: =IF('1枚目'!E8="","",'1枚目'!E8) | H8: =IF('1枚目'!H8="","",'1枚目'!H8)
B10: 氏 名 | C10: 年齢 | E10: 〒 | H10: 自 宅 住 所 | K10: 電 話 | O10: 登録大会
A11: 1 | P11: あしかが | S11: クラブ
A12: 2 | P12: あだち | S12: 種目
A13: 3 | P13: あらい | S13: 秋季
A14: 4 | P14: いまもと | S14: オープン
A15: 5 | P15: おがわ | S15: レディース
A16: 6 | P16: かねたか | S16: マスターズ
A17: 7 | P17: かみや
A18: 8 | P18: かわはら
A19: 9 | P19: さいつ
A20: 10 | P20: たけだ
A21: 11 | P21: たつの
A22: 12 | P22: たねべ
A23: 13 | P23: たばた
A24: 14 | P24: なかひら
A25: 15 | P25: はやせ
A26: 16 | P26: やまだ
A27: 17 | P27: やまもと
A28: 18
A29: 19
A30: 20
A31: 21
A32: 22
A33: 23
A34: 24
A35: 25
A36: 26
A37: 27
A38: 28
A39: 29
A40: 30
C42: 色セルのみ入力して下さい。 | K42: 男 | M42: 女 | O42: 合計
O43: =IF(K43+N43=0,"",SUM(K43:N44))
B44: (1)121名以上の場合は、「4枚目」シートを使用し登録して下さい。
B45: (2)登録した大会を次のようにプルダウンで選んで下さい。
B46: 例：クラブ対抗テニス→クラブ 種目別テニス→種目 オープンテニス→オープン
B47: 秋季テニス→秋季 レディーステニス→レディース マスターズテニス→マスターズ
B48: ※本名簿は堺市テニス協会主催の大会にのみ使用し、保存期間は1年間とする。
B49: (3)堺市テニス協会登録費は2,000円/人です。但し、マスターズ時登録は1000円です。

Sheet 5枚目
F1: ='1枚目'!F1 -> 2026年度 | H1: ='1枚目'!H1 -> 堺市テニス協会登録会員名簿(メール用)
B3: 代表者(理事)氏名 | D3: ='1枚目'!D3 -> 0 | H3: 団 体 名 | J3: ='1枚目'!J3 -> 0
B4: 住 所 | D4: 〒 | E4: ='1枚目'!E4 -> 0 | H4: ='1枚目'!H4 -> 0
B5: e-mail : | D5: ='1枚目'!D5 -> 0 | L5: 電話 | N5: ='1枚目'!N5 -> 0
B6: 上記住所ではなく他の住所に郵送希望の場合は、下記項目を記入ください。
B7: 郵送先氏名 | D7: =IF('1枚目'!D7="","",'1枚目'!D7) | L7: 電話 | N7: =IF('1枚目'!N7="","",'1枚目'!N7)
B8: 郵送先住所 | D8: 〒 | E8: =IF('1枚目'!E8="","",'1枚目'!E8) | H8: =IF('1枚目'!H8="","",'1枚目'!H8)
B10: 氏 名 | C10: 年齢 | E10: 〒 | H10: 自 宅 住 所 | K10: 電 話 | O10: 登録大会
A11: 1 | P11: あしかが | S11: クラブ
A12: 2 | P12: あだち | S12: 種目
A13: 3 | P13: あらい | S13: 秋季
A14: 4 | P14: いまもと | S14: オープン
A15: 5 | P15: おがわ | S15: レディース
A16: 6 | P16: かねたか | S16: マスターズ
A17: 7 | P17: かみや
A18: 8 | P18: かわはら
A19: 9 | P19: さいつ
A20: 10 | P20: たけだ
A21: 11 | P21: たつの
A22: 12 | P22: たねべ
A23: 13 | P23: たばた
A24: 14 | P24: なかひら
A25: 15 | P25: はやせ
A26: 16 | P26: やまだ
A27: 17 | P27: やまもと
A28: 18
A29: 19
A30: 20
A31: 21
A32: 22
A33: 23
A34: 24
A35: 25
A36: 26
A37: 27
A38: 28
A39: 29
A40: 30
C42: 色セルのみ入力して下さい。 | K42: 男 | M42: 女 | O42: 合計
O43: =IF(K43+N43=0,"",SUM(K43:N44))
B44: (1)151名以上の場合は、ファイルをコピーして登録して下さい。
B45: (2)登録した大会を次のようにプルダウンで選んで下さい。
B46: 例：クラブ対抗テニス→クラブ 種目別テニス→種目 オープンテニス→オープン
B47: 秋季テニス→秋季 レディーステニス→レディース マスターズテニス→マスターズ
B48: ※本名簿は堺市テニス協会主催の大会にのみ使用し、保存期間は1年間とする。
B49: (3)堺市テニス協会登録費は2,000円/人です。但し、マスターズ時登録は1000円です。
