Workbook

Sheet 申込書1枚目
L1: 第57回 | M1: 堺市クラブ対抗 申込用紙(メール用)
A2: クラブ名 | B2: 数 | C2: 名 前
A3: 堺クラブ | B3: 1 | C3: 堺 一郎
B4: 2 | C4: 湊 次郎 | F4: ｸﾗｽ | G4: クラブ名 | J4: 堺クラブ
B5: 3 | C5: 石津 拓也 | F5: 男A | G5: ( | H5: =IF(C3="","",LEFT(C3,FIND(" ",C3,1))) -> 堺 | I5: ・ | J5: =IF(C4="","",LEFT(C4,FIND(" ",C4,1))) -> 湊 | L5: ・ | M5: =IF(C5="","",LEFT(C5,FIND(" ",C5,1))) -> 石津 | O5: ・ | P5: =IF(C6="","",LEFT(C6,FIND(" ",C6,1))) -> 中百舌鳥 | R5: ・ | S5: =IF(C7="","",LEFT(C7,FIND(" ",C7,1))) -> 深井 | U5: ・ | V5: =IF(C8="","",LEFT(C8,FIND(" ",C8,1))) -> 三国 | X5: ・ | Y5: =IF(C9="","",LEFT(C9,FIND(" ",C9,1))) -> 浜寺 | AA5: ・ | AB5: =IF(C10="","",LEFT(C10,FIND(" ",C10,1))) -> 泉丘 | AD5: ) | AG5: クラス
B6: 4 | C6: 中百舌鳥 太郎 | AG6: 男A
B7: 5 | C7: 深井 祐一 | AG7: 男B
B8: 6 | C8: 三国 孝太 | AG8: 男C
B9: 7 | C9: 浜寺 健一 | AG9: 男50
B10: 8 | C10: 泉丘 司 | AG10: 女A
AG11: 女B
A12: クラブ名 | B12: 数 | C12: 名 前 | AG12: 女C
B13: 1 | F13: ｸﾗｽ | G13: クラブ名 | J13: =IF(A13=0,"",A13)
B14: 2 | G14: ( | H14: =IF(C13="","",LEFT(C13,FIND(" ",C13,1))) | I14: ・ | J14: =IF(C14="","",LEFT(C14,FIND(" ",C14,1))) | L14: ・ | M14: =IF(C15="","",LEFT(C15,FIND(" ",C15,1))) | O14: ・ | P14: =IF(C16="","",LEFT(C16,FIND(" ",C16,1))) | R14: ・ | S14: =IF(C17="","",LEFT(C17,FIND(" ",C17,1))) | U14: ・ | V14: =IF(C18="","",LEFT(C18,FIND(" ",C18,1))) | X14: ・ | Y14: =IF(C19="","",LEFT(C19,FIND(" ",C19,1))) | AA14: ・ | AB14: =IF(C20="","",LEFT(C20,FIND(" ",C20,1))) | AD14: )
B15: 3
B16: 4
B17: 5
B18: 6
B19: 7
B20: 8
A22: クラブ名 | B22: 数 | C22: 名 前
B23: 1 | F23: ｸﾗｽ | G23: クラブ名 | J23: =IF(A23=0,"",A23)
B24: 2 | G24: ( | H24: =IF(C23="","",LEFT(C23,FIND(" ",C23,1))) | I24: ・ | J24: =IF(C24="","",LEFT(C24,FIND(" ",C24,1))) | L24: ・ | M24: =IF(C25="","",LEFT(C25,FIND(" ",C25,1))) | O24: ・ | P24: =IF(C26="","",LEFT(C26,FIND(" ",C26,1))) | R24: ・ | S24: =IF(C27="","",LEFT(C27,FIND(" ",C27,1))) | U24: ・ | V24: =IF(C28="","",LEFT(C28,FIND(" ",C28,1))) | X24: ・ | Y24: =IF(C29="","",LEFT(C29,FIND(" ",C29,1))) | AA24: ・ | AB24: =IF(C30="","",LEFT(C30,FIND(" ",C30,1))) | AD24: )
B25: 3
B26: 4
B27: 5
B28: 6
B29: 7
B30: 8
A32: クラブ名 | B32: 数 | C32: 名 前
B33: 1 | F33: ｸﾗｽ | G33: クラブ名 | J33: =IF(A33=0,"",A33)
B34: 2 | G34: ( | H34: =IF(C33="","",LEFT(C33,FIND(" ",C33,1))) | I34: ・ | J34: =IF(C34="","",LEFT(C34,FIND(" ",C34,1))) | L34: ・ | M34: =IF(C35="","",LEFT(C35,FIND(" ",C35,1))) | O34: ・ | P34: =IF(C36="","",LEFT(C36,FIND(" ",C36,1))) | R34: ・ | S34: =IF(C37="","",LEFT(C37,FIND(" ",C37,1))) | U34: ・ | V34: =IF(C38="","",LEFT(C38,FIND(" ",C38,1))) | X34: ・ | Y34: =IF(C39="","",LEFT(C39,FIND(" ",C39,1))) | AA34: ・ | AB34: =IF(C40="","",LEFT(C40,FIND(" ",C40,1))) | AD34: )
B35: 3 | AH35: =F14 -> 0
B36: 4 | AH36: =F24 -> 0
B37: 5 | K37: 男 | Q37: 女 | U37: 合計 | AH37: =F34 -> 0
B38: 6 | K38: 男A | L38: 男B | N38: 男C | P38: 男50 | Q38: 女A | R38: 女B | T38: 女C | U38: =IF(SUM(K39:T40)=0,"",SUM(K39:T40)) | X38: チーム
B39: 7 | K39: =IF(AH39=0,"",AH39) | L39: =IF(AI39=0,"",AI39) | N39: =IF(AJ39=0,"",AJ39) | P39: =IF(AK39=0,"",AK39) | Q39: =IF(AL39=0,"",AL39) | R39: =IF(AM39=0,"",AM39) | T39: =IF(AN39=0,"",AN39) | AH39: =COUNTIF($AH$35:$AH$37,K38) -> 0 | AI39: =COUNTIF($AH$35:$AH$37,L38) -> 0 | AJ39: =COUNTIF($AH$35:$AH$37,N38) -> 0 | AK39: =COUNTIF($AH$35:$AH$37,P38) -> 0 | AL39: =COUNTIF($AH$35:$AH$37,Q38) -> 0 | AM39: =COUNTIF($AH$35:$AH$37,R38) -> 0 | AN39: =COUNTIF($AH$35:$AH$37,T38) -> 0
B40: 8
C42: 色セルのみ入力して下さい。
A43: ク ラ ブ名： ( | K43: )
...

Sheet 申込書2枚目
L1: =申込書1枚目!L1 -> 第57回 | M1: 堺市クラブ対抗 申込用紙(メール用)
A2: クラブ名 | B2: 数 | C2: 名 前
A3: 堺クラブ | B3: 1 | C3: 堺 一郎
B4: 2 | C4: 湊 次郎 | F4: ｸﾗｽ | G4: クラブ名 | J4: 堺クラブ
B5: 3 | C5: 石津 拓也 | F5: 男A | G5: ( | H5: =IF(C3="","",LEFT(C3,FIND(" ",C3,1))) -> 堺 | I5: ・ | J5: =IF(C4="","",LEFT(C4,FIND(" ",C4,1))) -> 湊 | L5: ・ | M5: =IF(C5="","",LEFT(C5,FIND(" ",C5,1))) -> 石津 | O5: ・ | P5: =IF(C6="","",LEFT(C6,FIND(" ",C6,1))) -> 中百舌鳥 | R5: ・ | S5: =IF(C7="","",LEFT(C7,FIND(" ",C7,1))) -> 深井 | U5: ・ | V5: =IF(C8="","",LEFT(C8,FIND(" ",C8,1))) -> 三国 | X5: ・ | Y5: =IF(C9="","",LEFT(C9,FIND(" ",C9,1))) -> 浜寺 | AA5: ・ | AB5: =IF(C10="","",LEFT(C10,FIND(" ",C10,1))) -> 泉丘 | AD5: ) | AG5: クラス
B6: 4 | C6: 中百舌鳥 太郎 | AG6: 男A
B7: 5 | C7: 深井 祐一 | AG7: 男B
B8: 6 | C8: 三国 孝太 | AG8: 男C
B9: 7 | C9: 浜寺 健一 | AG9: 男50
B10: 8 | C10: 泉丘 司 | AG10: 女A
AG11: 女B
A12: クラブ名 | B12: 数 | C12: 名 前 | AG12: 女C
B13: 1 | F13: ｸﾗｽ | G13: クラブ名 | J13: =IF(A13=0,"",A13)
B14: 2 | G14: ( | H14: =IF(C13="","",LEFT(C13,FIND(" ",C13,1))) | I14: ・ | J14: =IF(C14="","",LEFT(C14,FIND(" ",C14,1))) | L14: ・ | M14: =IF(C15="","",LEFT(C15,FIND(" ",C15,1))) | O14: ・ | P14: =IF(C16="","",LEFT(C16,FIND(" ",C16,1))) | R14: ・ | S14: =IF(C17="","",LEFT(C17,FIND(" ",C17,1))) | U14: ・ | V14: =IF(C18="","",LEFT(C18,FIND(" ",C18,1))) | X14: ・ | Y14: =IF(C19="","",LEFT(C19,FIND(" ",C19,1))) | AA14: ・ | AB14: =IF(C20="","",LEFT(C20,FIND(" ",C20,1))) | AD14: )
B15: 3
B16: 4
B17: 5
B18: 6
B19: 7
B20: 8
A22: クラブ名 | B22: 数 | C22: 名 前
B23: 1 | F23: ｸﾗｽ | G23: クラブ名 | J23: =IF(A23=0,"",A23)
B24: 2 | G24: ( | H24: =IF(C23="","",LEFT(C23,FIND(" ",C23,1))) | I24: ・ | J24: =IF(C24="","",LEFT(C24,FIND(" ",C24,1))) | L24: ・ | M24: =IF(C25="","",LEFT(C25,FIND(" ",C25,1))) | O24: ・ | P24: =IF(C26="","",LEFT(C26,FIND(" ",C26,1))) | R24: ・ | S24: =IF(C27="","",LEFT(C27,FIND(" ",C27,1))) | U24: ・ | V24: =IF(C28="","",LEFT(C28,FIND(" ",C28,1))) | X24: ・ | Y24: =IF(C29="","",LEFT(C29,FIND(" ",C29,1))) | AA24: ・ | AB24: =IF(C30="","",LEFT(C30,FIND(" ",C30,1))) | AD24: )
B25: 3
B26: 4
B27: 5
B28: 6
B29: 7
B30: 8
A32: クラブ名 | B32: 数 | C32: 名 前
B33: 1 | F33: ｸﾗｽ | G33: クラブ名 | J33: =IF(A33=0,"",A33)
B34: 2 | G34: ( | H34: =IF(C33="","",LEFT(C33,FIND(" ",C33,1))) | I34: ・ | J34: =IF(C34="","",LEFT(C34,FIND(" ",C34,1))) | L34: ・ | M34: =IF(C35="","",LEFT(C35,FIND(" ",C35,1))) | O34: ・ | P34: =IF(C36="","",LEFT(C36,FIND(" ",C36,1))) | R34: ・ | S34: =IF(C37="","",LEFT(C37,FIND(" ",C37,1))) | U34: ・ | V34: =IF(C38="","",LEFT(C38,FIND(" ",C38,1))) | X34: ・ | Y34: =IF(C39="","",LEFT(C39,FIND(" ",C39,1))) | AA34: ・ | AB34: =IF(C40="","",LEFT(C40,FIND(" ",C40,1))) | AD34: )
B35: 3 | AH35: =F14 -> 0
B36: 4 | AH36: =F24 -> 0
B37: 5 | K37: 男 | Q37: 女 | U37: 合計 | AH37: =F34 -> 0
B38: 6 | K38: 男A | L38: 男B | N38: 男C | P38: 男50 | Q38: 女A | R38: 女B | T38: 女C | U38: =IF(SUM(K39:T40)=0,"",SUM(K39:T40)) | X38: チーム
B39: 7 | K39: =IF(AH39=0,"",AH39) | L39: =IF(AI39=0,"",AI39) | N39: =IF(AJ39=0,"",AJ39) | P39: =IF(AK39=0,"",AK39) | Q39: =IF(AL39=0,"",AL39) | R39: =IF(AM39=0,"",AM39) | T39: =IF(AN39=0,"",AN39) | AH39: =COUNTIF($AH$35:$AH$37,K38) -> 0 | AI39: =COUNTIF($AH$35:$AH$37,L38) -> 0 | AJ39: =COUNTIF($AH$35:$AH$37,N38) -> 0 | AK39: =COUNTIF($AH$35:$AH$37,P38) -> 0 | AL39: =COUNTIF($AH$35:$AH$37,Q38) -> 0 | AM39: =COUNTIF($AH$35:$AH$37,R38) -> 0 | AN39: =COUNTIF($AH$35:$AH$37,T38) -> 0
B40: 8
C42: 色セルのみ入力して下さい。
A43: ク ラ ブ名： ( | D43: =申込書1枚目!D43 -> 0 | K43: )
...

Sheet 申込書3枚目
L1: =申込書1枚目!L1 -> 第57回 | M1: 堺市クラブ対抗 申込用紙(メール用)
A2: クラブ名 | B2: 数 | C2: 名 前
A3: 堺クラブ | B3: 1 | C3: 堺 一郎
B4: 2 | C4: 湊 次郎 | F4: ｸﾗｽ | G4: クラブ名 | J4: 堺クラブ
B5: 3 | C5: 石津 拓也 | F5: 男A | G5: ( | H5: =IF(C3="","",LEFT(C3,FIND(" ",C3,1))) -> 堺 | I5: ・ | J5: =IF(C4="","",LEFT(C4,FIND(" ",C4,1))) -> 湊 | L5: ・ | M5: =IF(C5="","",LEFT(C5,FIND(" ",C5,1))) -> 石津 | O5: ・ | P5: =IF(C6="","",LEFT(C6,FIND(" ",C6,1))) -> 中百舌鳥 | R5: ・ | S5: =IF(C7="","",LEFT(C7,FIND(" ",C7,1))) -> 深井 | U5: ・ | V5: =IF(C8="","",LEFT(C8,FIND(" ",C8,1))) -> 三国 | X5: ・ | Y5: =IF(C9="","",LEFT(C9,FIND(" ",C9,1))) -> 浜寺 | AA5: ・ | AB5: =IF(C10="","",LEFT(C10,FIND(" ",C10,1))) -> 泉丘 | AD5: ) | AG5: クラス
B6: 4 | C6: 中百舌鳥 太郎 | AG6: 男A
B7: 5 | C7: 深井 祐一 | AG7: 男B
B8: 6 | C8: 三国 孝太 | AG8: 男C
B9: 7 | C9: 浜寺 健一 | AG9: 男50
B10: 8 | C10: 泉丘 司 | AG10: 女A
AG11: 女B
A12: クラブ名 | B12: 数 | C12: 名 前 | AG12: 女C
B13: 1 | F13: ｸﾗｽ | G13: クラブ名 | J13: =IF(A13=0,"",A13)
B14: 2 | G14: ( | H14: =IF(C13="","",LEFT(C13,FIND(" ",C13,1))) | I14: ・ | J14: =IF(C14="","",LEFT(C14,FIND(" ",C14,1))) | L14: ・ | M14: =IF(C15="","",LEFT(C15,FIND(" ",C15,1))) | O14: ・ | P14: =IF(C16="","",LEFT(C16,FIND(" ",C16,1))) | R14: ・ | S14: =IF(C17="","",LEFT(C17,FIND(" ",C17,1))) | U14: ・ | V14: =IF(C18="","",LEFT(C18,FIND(" ",C18,1))) | X14: ・ | Y14: =IF(C19="","",LEFT(C19,FIND(" ",C19,1))) | AA14: ・ | AB14: =IF(C20="","",LEFT(C20,FIND(" ",C20,1))) | AD14: )
B15: 3
B16: 4
B17: 5
B18: 6
B19: 7
B20: 8
A22: クラブ名 | B22: 数 | C22: 名 前
B23: 1 | F23: ｸﾗｽ | G23: クラブ名 | J23: =IF(A23=0,"",A23)
B24: 2 | G24: ( | H24: =IF(C23="","",LEFT(C23,FIND(" ",C23,1))) | I24: ・ | J24: =IF(C24="","",LEFT(C24,FIND(" ",C24,1))) | L24: ・ | M24: =IF(C25="","",LEFT(C25,FIND(" ",C25,1))) | O24: ・ | P24: =IF(C26="","",LEFT(C26,FIND(" ",C26,1))) | R24: ・ | S24: =IF(C27="","",LEFT(C27,FIND(" ",C27,1))) | U24: ・ | V24: =IF(C28="","",LEFT(C28,FIND(" ",C28,1))) | X24: ・ | Y24: =IF(C29="","",LEFT(C29,FIND(" ",C29,1))) | AA24: ・ | AB24: =IF(C30="","",LEFT(C30,FIND(" ",C30,1))) | AD24: )
B25: 3
B26: 4
B27: 5
B28: 6
B29: 7
B30: 8
A32: クラブ名 | B32: 数 | C32: 名 前
B33: 1 | F33: ｸﾗｽ | G33: クラブ名 | J33: =IF(A33=0,"",A33)
B34: 2 | G34: ( | H34: =IF(C33="","",LEFT(C33,FIND(" ",C33,1))) | I34: ・ | J34: =IF(C34="","",LEFT(C34,FIND(" ",C34,1))) | L34: ・ | M34: =IF(C35="","",LEFT(C35,FIND(" ",C35,1))) | O34: ・ | P34: =IF(C36="","",LEFT(C36,FIND(" ",C36,1))) | R34: ・ | S34: =IF(C37="","",LEFT(C37,FIND(" ",C37,1))) | U34: ・ | V34: =IF(C38="","",LEFT(C38,FIND(" ",C38,1))) | X34: ・ | Y34: =IF(C39="","",LEFT(C39,FIND(" ",C39,1))) | AA34: ・ | AB34: =IF(C40="","",LEFT(C40,FIND(" ",C40,1))) | AD34: )
B35: 3 | AH35: =F14 -> 0
B36: 4 | AH36: =F24 -> 0
B37: 5 | K37: 男 | Q37: 女 | U37: 合計 | AH37: =F34 -> 0
B38: 6 | K38: 男A | L38: 男B | N38: 男C | P38: 男50 | Q38: 女A | R38: 女B | T38: 女C | U38: =IF(SUM(K39:T40)=0,"",SUM(K39:T40)) | X38: チーム
B39: 7 | K39: =IF(AH39=0,"",AH39) | L39: =IF(AI39=0,"",AI39) | N39: =IF(AJ39=0,"",AJ39) | P39: =IF(AK39=0,"",AK39) | Q39: =IF(AL39=0,"",AL39) | R39: =IF(AM39=0,"",AM39) | T39: =IF(AN39=0,"",AN39) | AH39: =COUNTIF($AH$35:$AH$37,K38) -> 0 | AI39: =COUNTIF($AH$35:$AH$37,L38) -> 0 | AJ39: =COUNTIF($AH$35:$AH$37,N38) -> 0 | AK39: =COUNTIF($AH$35:$AH$37,P38) -> 0 | AL39: =COUNTIF($AH$35:$AH$37,Q38) -> 0 | AM39: =COUNTIF($AH$35:$AH$37,R38) -> 0 | AN39: =COUNTIF($AH$35:$AH$37,T38) -> 0
B40: 8
C42: 色セルのみ入力して下さい。
A43: ク ラ ブ名： ( | D43: =申込書1枚目!D43 -> 0 | K43: )
...

Sheet 申込書4枚目
L1: =申込書1枚目!L1 -> 第57回 | M1: 堺市クラブ対抗 申込用紙(メール用)
A2: クラブ名 | B2: 数 | C2: 名 前
A3: 堺クラブ | B3: 1 | C3: 堺 一郎
B4: 2 | C4: 湊 次郎 | F4: ｸﾗｽ | G4: クラブ名 | J4: 堺クラブ
B5: 3 | C5: 石津 拓也 | F5: 男A | G5: ( | H5: =IF(C3="","",LEFT(C3,FIND(" ",C3,1))) -> 堺 | I5: ・ | J5: =IF(C4="","",LEFT(C4,FIND(" ",C4,1))) -> 湊 | L5: ・ | M5: =IF(C5="","",LEFT(C5,FIND(" ",C5,1))) -> 石津 | O5: ・ | P5: =IF(C6="","",LEFT(C6,FIND(" ",C6,1))) -> 中百舌鳥 | R5: ・ | S5: =IF(C7="","",LEFT(C7,FIND(" ",C7,1))) -> 深井 | U5: ・ | V5: =IF(C8="","",LEFT(C8,FIND(" ",C8,1))) -> 三国 | X5: ・ | Y5: =IF(C9="","",LEFT(C9,FIND(" ",C9,1))) -> 浜寺 | AA5: ・ | AB5: =IF(C10="","",LEFT(C10,FIND(" ",C10,1))) -> 泉丘 | AD5: ) | AG5: クラス
B6: 4 | C6: 中百舌鳥 太郎 | AG6: 男A
B7: 5 | C7: 深井 祐一 | AG7: 男B
B8: 6 | C8: 三国 孝太 | AG8: 男C
B9: 7 | C9: 浜寺 健一 | AG9: 男50
B10: 8 | C10: 泉丘 司 | AG10: 女A
AG11: 女B
A12: クラブ名 | B12: 数 | C12: 名 前 | AG12: 女C
B13: 1 | F13: ｸﾗｽ | G13: クラブ名 | J13: =IF(A13=0,"",A13)
B14: 2 | G14: ( | H14: =IF(C13="","",LEFT(C13,FIND(" ",C13,1))) | I14: ・ | J14: =IF(C14="","",LEFT(C14,FIND(" ",C14,1))) | L14: ・ | M14: =IF(C15="","",LEFT(C15,FIND(" ",C15,1))) | O14: ・ | P14: =IF(C16="","",LEFT(C16,FIND(" ",C16,1))) | R14: ・ | S14: =IF(C17="","",LEFT(C17,FIND(" ",C17,1))) | U14: ・ | V14: =IF(C18="","",LEFT(C18,FIND(" ",C18,1))) | X14: ・ | Y14: =IF(C19="","",LEFT(C19,FIND(" ",C19,1))) | AA14: ・ | AB14: =IF(C20="","",LEFT(C20,FIND(" ",C20,1))) | AD14: )
B15: 3
B16: 4
B17: 5
B18: 6
B19: 7
B20: 8
A22: クラブ名 | B22: 数 | C22: 名 前
B23: 1 | F23: ｸﾗｽ | G23: クラブ名 | J23: =IF(A23=0,"",A23)
B24: 2 | G24: ( | H24: =IF(C23="","",LEFT(C23,FIND(" ",C23,1))) | I24: ・ | J24: =IF(C24="","",LEFT(C24,FIND(" ",C24,1))) | L24: ・ | M24: =IF(C25="","",LEFT(C25,FIND(" ",C25,1))) | O24: ・ | P24: =IF(C26="","",LEFT(C26,FIND(" ",C26,1))) | R24: ・ | S24: =IF(C27="","",LEFT(C27,FIND(" ",C27,1))) | U24: ・ | V24: =IF(C28="","",LEFT(C28,FIND(" ",C28,1))) | X24: ・ | Y24: =IF(C29="","",LEFT(C29,FIND(" ",C29,1))) | AA24: ・ | AB24: =IF(C30="","",LEFT(C30,FIND(" ",C30,1))) | AD24: )
B25: 3
B26: 4
B27: 5
B28: 6
B29: 7
B30: 8
A32: クラブ名 | B32: 数 | C32: 名 前
B33: 1 | F33: ｸﾗｽ | G33: クラブ名 | J33: =IF(A33=0,"",A33)
B34: 2 | G34: ( | H34: =IF(C33="","",LEFT(C33,FIND(" ",C33,1))) | I34: ・ | J34: =IF(C34="","",LEFT(C34,FIND(" ",C34,1))) | L34: ・ | M34: =IF(C35="","",LEFT(C35,FIND(" ",C35,1))) | O34: ・ | P34: =IF(C36="","",LEFT(C36,FIND(" ",C36,1))) | R34: ・ | S34: =IF(C37="","",LEFT(C37,FIND(" ",C37,1))) | U34: ・ | V34: =IF(C38="","",LEFT(C38,FIND(" ",C38,1))) | X34: ・ | Y34: =IF(C39="","",LEFT(C39,FIND(" ",C39,1))) | AA34: ・ | AB34: =IF(C40="","",LEFT(C40,FIND(" ",C40,1))) | AD34: )
B35: 3 | AH35: =F14 -> 0
B36: 4 | AH36: =F24 -> 0
B37: 5 | K37: 男 | Q37: 女 | U37: 合計 | AH37: =F34 -> 0
B38: 6 | K38: 男A | L38: 男B | N38: 男C | P38: 男50 | Q38: 女A | R38: 女B | T38: 女C | U38: =IF(SUM(K39:T40)=0,"",SUM(K39:T40)) | X38: チーム
B39: 7 | K39: =IF(AH39=0,"",AH39) | L39: =IF(AI39=0,"",AI39) | N39: =IF(AJ39=0,"",AJ39) | P39: =IF(AK39=0,"",AK39) | Q39: =IF(AL39=0,"",AL39) | R39: =IF(AM39=0,"",AM39) | T39: =IF(AN39=0,"",AN39) | AH39: =COUNTIF($AH$35:$AH$37,K38) -> 0 | AI39: =COUNTIF($AH$35:$AH$37,L38) -> 0 | AJ39: =COUNTIF($AH$35:$AH$37,N38) -> 0 | AK39: =COUNTIF($AH$35:$AH$37,P38) -> 0 | AL39: =COUNTIF($AH$35:$AH$37,Q38) -> 0 | AM39: =COUNTIF($AH$35:$AH$37,R38) -> 0 | AN39: =COUNTIF($AH$35:$AH$37,T38) -> 0
B40: 8
C42: 色セルのみ入力して下さい。
A43: ク ラ ブ名： ( | D43: =申込書1枚目!D43 -> 0 | K43: )
...

Sheet 申込書5枚目
L1: =申込書1枚目!L1 -> 第57回 | M1: 堺市クラブ対抗 申込用紙(メール用)
A2: クラブ名 | B2: 数 | C2: 名 前
A3: 堺クラブ | B3: 1 | C3: 堺 一郎
B4: 2 | C4: 湊 次郎 | F4: ｸﾗｽ | G4: クラブ名 | J4: 堺クラブ
B5: 3 | C5: 石津 拓也 | F5: 男A | G5: ( | H5: =IF(C3="","",LEFT(C3,FIND(" ",C3,1))) -> 堺 | I5: ・ | J5: =IF(C4="","",LEFT(C4,FIND(" ",C4,1))) -> 湊 | L5: ・ | M5: =IF(C5="","",LEFT(C5,FIND(" ",C5,1))) -> 石津 | O5: ・ | P5: =IF(C6="","",LEFT(C6,FIND(" ",C6,1))) -> 中百舌鳥 | R5: ・ | S5: =IF(C7="","",LEFT(C7,FIND(" ",C7,1))) -> 深井 | U5: ・ | V5: =IF(C8="","",LEFT(C8,FIND(" ",C8,1))) -> 三国 | X5: ・ | Y5: =IF(C9="","",LEFT(C9,FIND(" ",C9,1))) -> 浜寺 | AA5: ・ | AB5: =IF(C10="","",LEFT(C10,FIND(" ",C10,1))) -> 泉丘 | AD5: ) | AG5: クラス
B6: 4 | C6: 中百舌鳥 太郎 | AG6: 男A
B7: 5 | C7: 深井 祐一 | AG7: 男B
B8: 6 | C8: 三国 孝太 | AG8: 男C
B9: 7 | C9: 浜寺 健一 | AG9: 男50
B10: 8 | C10: 泉丘 司 | AG10: 女A
AG11: 女B
A12: クラブ名 | B12: 数 | C12: 名 前 | AG12: 女C
B13: 1 | F13: ｸﾗｽ | G13: クラブ名 | J13: =IF(A13=0,"",A13)
B14: 2 | G14: ( | H14: =IF(C13="","",LEFT(C13,FIND(" ",C13,1))) | I14: ・ | J14: =IF(C14="","",LEFT(C14,FIND(" ",C14,1))) | L14: ・ | M14: =IF(C15="","",LEFT(C15,FIND(" ",C15,1))) | O14: ・ | P14: =IF(C16="","",LEFT(C16,FIND(" ",C16,1))) | R14: ・ | S14: =IF(C17="","",LEFT(C17,FIND(" ",C17,1))) | U14: ・ | V14: =IF(C18="","",LEFT(C18,FIND(" ",C18,1))) | X14: ・ | Y14: =IF(C19="","",LEFT(C19,FIND(" ",C19,1))) | AA14: ・ | AB14: =IF(C20="","",LEFT(C20,FIND(" ",C20,1))) | AD14: )
B15: 3
B16: 4
B17: 5
B18: 6
B19: 7
B20: 8
A22: クラブ名 | B22: 数 | C22: 名 前
B23: 1 | F23: ｸﾗｽ | G23: クラブ名 | J23: =IF(A23=0,"",A23)
B24: 2 | G24: ( | H24: =IF(C23="","",LEFT(C23,FIND(" ",C23,1))) | I24: ・ | J24: =IF(C24="","",LEFT(C24,FIND(" ",C24,1))) | L24: ・ | M24: =IF(C25="","",LEFT(C25,FIND(" ",C25,1))) | O24: ・ | P24: =IF(C26="","",LEFT(C26,FIND(" ",C26,1))) | R24: ・ | S24: =IF(C27="","",LEFT(C27,FIND(" ",C27,1))) | U24: ・ | V24: =IF(C28="","",LEFT(C28,FIND(" ",C28,1))) | X24: ・ | Y24: =IF(C29="","",LEFT(C29,FIND(" ",C29,1))) | AA24: ・ | AB24: =IF(C30="","",LEFT(C30,FIND(" ",C30,1))) | AD24: )
B25: 3
B26: 4
B27: 5
B28: 6
B29: 7
B30: 8
A32: クラブ名 | B32: 数 | C32: 名 前
B33: 1 | F33: ｸﾗｽ | G33: クラブ名 | J33: =IF(A33=0,"",A33)
B34: 2 | G34: ( | H34: =IF(C33="","",LEFT(C33,FIND(" ",C33,1))) | I34: ・ | J34: =IF(C34="","",LEFT(C34,FIND(" ",C34,1))) | L34: ・ | M34: =IF(C35="","",LEFT(C35,FIND(" ",C35,1))) | O34: ・ | P34: =IF(C36="","",LEFT(C36,FIND(" ",C36,1))) | R34: ・ | S34: =IF(C37="","",LEFT(C37,FIND(" ",C37,1))) | U34: ・ | V34: =IF(C38="","",LEFT(C38,FIND(" ",C38,1))) | X34: ・ | Y34: =IF(C39="","",LEFT(C39,FIND(" ",C39,1))) | AA34: ・ | AB34: =IF(C40="","",LEFT(C40,FIND(" ",C40,1))) | AD34: )
B35: 3 | AH35: =F14 -> 0
B36: 4 | AH36: =F24 -> 0
B37: 5 | K37: 男 | Q37: 女 | U37: 合計 | AH37: =F34 -> 0
B38: 6 | K38: 男A | L38: 男B | N38: 男C | P38: 男50 | Q38: 女A | R38: 女B | T38: 女C | U38: =IF(SUM(K39:T40)=0,"",SUM(K39:T40)) | X38: チーム
B39: 7 | K39: =IF(AH39=0,"",AH39) | L39: =IF(AI39=0,"",AI39) | N39: =IF(AJ39=0,"",AJ39) | P39: =IF(AK39=0,"",AK39) | Q39: =IF(AL39=0,"",AL39) | R39: =IF(AM39=0,"",AM39) | T39: =IF(AN39=0,"",AN39) | AH39: =COUNTIF($AH$35:$AH$37,K38) -> 0 | AI39: =COUNTIF($AH$35:$AH$37,L38) -> 0 | AJ39: =COUNTIF($AH$35:$AH$37,N38) -> 0 | AK39: =COUNTIF($AH$35:$AH$37,P38) -> 0 | AL39: =COUNTIF($AH$35:$AH$37,Q38) -> 0 | AM39: =COUNTIF($AH$35:$AH$37,R38) -> 0 | AN39: =COUNTIF($AH$35:$AH$37,T38) -> 0
B40: 8
C42: 色セルのみ入力して下さい。
A43: ク ラ ブ名： ( | D43: =申込書1枚目!D43 -> 0 | K43: )
...

Sheet 申込書6枚目
L1: =申込書1枚目!L1 -> 第57回 | M1: 堺市クラブ対抗 申込用紙(メール用)
A2: クラブ名 | B2: 数 | C2: 名 前
A3: 堺クラブ | B3: 1 | C3: 堺 一郎
B4: 2 | C4: 湊 次郎 | F4: ｸﾗｽ | G4: クラブ名 | J4: 堺クラブ
B5: 3 | C5: 石津 拓也 | F5: 男A | G5: ( | H5: =IF(C3="","",LEFT(C3,FIND(" ",C3,1))) -> 堺 | I5: ・ | J5: =IF(C4="","",LEFT(C4,FIND(" ",C4,1))) -> 湊 | L5: ・ | M5: =IF(C5="","",LEFT(C5,FIND(" ",C5,1))) -> 石津 | O5: ・ | P5: =IF(C6="","",LEFT(C6,FIND(" ",C6,1))) -> 中百舌鳥 | R5: ・ | S5: =IF(C7="","",LEFT(C7,FIND(" ",C7,1))) -> 深井 | U5: ・ | V5: =IF(C8="","",LEFT(C8,FIND(" ",C8,1))) -> 三国 | X5: ・ | Y5: =IF(C9="","",LEFT(C9,FIND(" ",C9,1))) -> 浜寺 | AA5: ・ | AB5: =IF(C10="","",LEFT(C10,FIND(" ",C10,1))) -> 泉丘 | AD5: ) | AG5: クラス
B6: 4 | C6: 中百舌鳥 太郎 | AG6: 男A
B7: 5 | C7: 深井 祐一 | AG7: 男B
B8: 6 | C8: 三国 孝太 | AG8: 男C
B9: 7 | C9: 浜寺 健一 | AG9: 男50
B10: 8 | C10: 泉丘 司 | AG10: 女A
AG11: 女B
A12: クラブ名 | B12: 数 | C12: 名 前 | AG12: 女C
B13: 1 | F13: ｸﾗｽ | G13: クラブ名 | J13: =IF(A13=0,"",A13)
B14: 2 | G14: ( | H14: =IF(C13="","",LEFT(C13,FIND(" ",C13,1))) | I14: ・ | J14: =IF(C14="","",LEFT(C14,FIND(" ",C14,1))) | L14: ・ | M14: =IF(C15="","",LEFT(C15,FIND(" ",C15,1))) | O14: ・ | P14: =IF(C16="","",LEFT(C16,FIND(" ",C16,1))) | R14: ・ | S14: =IF(C17="","",LEFT(C17,FIND(" ",C17,1))) | U14: ・ | V14: =IF(C18="","",LEFT(C18,FIND(" ",C18,1))) | X14: ・ | Y14: =IF(C19="","",LEFT(C19,FIND(" ",C19,1))) | AA14: ・ | AB14: =IF(C20="","",LEFT(C20,FIND(" ",C20,1))) | AD14: )
B15: 3
B16: 4
B17: 5
B18: 6
B19: 7
B20: 8
A22: クラブ名 | B22: 数 | C22: 名 前
B23: 1 | F23: ｸﾗｽ | G23: クラブ名 | J23: =IF(A23=0,"",A23)
B24: 2 | G24: ( | H24: =IF(C23="","",LEFT(C23,FIND(" ",C23,1))) | I24: ・ | J24: =IF(C24="","",LEFT(C24,FIND(" ",C24,1))) | L24: ・ | M24: =IF(C25="","",LEFT(C25,FIND(" ",C25,1))) | O24: ・ | P24: =IF(C26="","",LEFT(C26,FIND(" ",C26,1))) | R24: ・ | S24: =IF(C27="","",LEFT(C27,FIND(" ",C27,1))) | U24: ・ | V24: =IF(C28="","",LEFT(C28,FIND(" ",C28,1))) | X24: ・ | Y24: =IF(C29="","",LEFT(C29,FIND(" ",C29,1))) | AA24: ・ | AB24: =IF(C30="","",LEFT(C30,FIND(" ",C30,1))) | AD24: )
B25: 3
B26: 4
B27: 5
B28: 6
B29: 7
B30: 8
A32: クラブ名 | B32: 数 | C32: 名 前
B33: 1 | F33: ｸﾗｽ | G33: クラブ名 | J33: =IF(A33=0,"",A33)
B34: 2 | G34: ( | H34: =IF(C33="","",LEFT(C33,FIND(" ",C33,1))) | I34: ・ | J34: =IF(C34="","",LEFT(C34,FIND(" ",C34,1))) | L34: ・ | M34: =IF(C35="","",LEFT(C35,FIND(" ",C35,1))) | O34: ・ | P34: =IF(C36="","",LEFT(C36,FIND(" ",C36,1))) | R34: ・ | S34: =IF(C37="","",LEFT(C37,FIND(" ",C37,1))) | U34: ・ | V34: =IF(C38="","",LEFT(C38,FIND(" ",C38,1))) | X34: ・ | Y34: =IF(C39="","",LEFT(C39,FIND(" ",C39,1))) | AA34: ・ | AB34: =IF(C40="","",LEFT(C40,FIND(" ",C40,1))) | AD34: )
B35: 3 | AH35: =F14 -> 0
B36: 4 | AH36: =F24 -> 0
B37: 5 | K37: 男 | Q37: 女 | U37: 合計 | AH37: =F34 -> 0
B38: 6 | K38: 男A | L38: 男B | N38: 男C | P38: 男50 | Q38: 女A | R38: 女B | T38: 女C | U38: =IF(SUM(K39:T40)=0,"",SUM(K39:T40)) | X38: チーム
B39: 7 | K39: =IF(AH39=0,"",AH39) | L39: =IF(AI39=0,"",AI39) | N39: =IF(AJ39=0,"",AJ39) | P39: =IF(AK39=0,"",AK39) | Q39: =IF(AL39=0,"",AL39) | R39: =IF(AM39=0,"",AM39) | T39: =IF(AN39=0,"",AN39) | AH39: =COUNTIF($AH$35:$AH$37,K38) -> 0 | AI39: =COUNTIF($AH$35:$AH$37,L38) -> 0 | AJ39: =COUNTIF($AH$35:$AH$37,N38) -> 0 | AK39: =COUNTIF($AH$35:$AH$37,P38) -> 0 | AL39: =COUNTIF($AH$35:$AH$37,Q38) -> 0 | AM39: =COUNTIF($AH$35:$AH$37,R38) -> 0 | AN39: =COUNTIF($AH$35:$AH$37,T38) -> 0
B40: 8
C42: 色セルのみ入力して下さい。
A43: ク ラ ブ名： ( | D43: =申込書1枚目!D43 -> 0 | K43: )
...

Sheet Sheet3
