Workbook
Name _Hlk61120810: 申込書表紙!#REF!

Sheet 申込書表紙
D2: 第96回 | E2: 堺市種目別テニス大会申込書(メール用)
A5: 必ず記入例に準じて、選手名と所属団体名を入力して下さい。 堺市にメンバー登録されている方は「○」印を、未登録の方は「未」印をプルダウンで選ぶとともに 登録手続きを行って下さい。各種目のエントリー総数はエントリー数により自動計算されます。
B7: 男子A級 | C7: =COUNTA(男子A級!A8:A45)/2 -> 0 | E7: ペア | F7: 男子60才以上 | H7: =COUNTA('男子60-70歳'!A8:A19)/2 -> 0 | I7: ペア | J7: 女子平日B級 | K7: =COUNTA(女子平日B級!A8:A45)/2 -> 0 | L7: ペア
B8: 男子B級 | C8: =COUNTA(男子B級!A8:A45)/2 -> 0 | E8: ペア | F8: 男子65才以上 | H8: =COUNTA('男子60-70歳'!A22:A33)/2 -> 0 | I8: ペア | J8: 女子平日C級 | K8: =COUNTA(女子平日C級!A8:A45)/2 -> 0 | L8: ペア
B9: 男子C級 | C9: =COUNTA(男子C級!A8:A45)/2 -> 0 | E9: ペア | F9: 男子70才以上 | H9: =COUNTA('男子60-70歳'!A36:A45)/2 -> 0 | I9: ペア | J9: 女子平日初級 | K9: =COUNTA(女子平日初級!A8:A45)/2 -> 0 | L9: ペア
B10: 男子35才以上 | C10: =COUNTA('男子35,45歳'!A8:A25)/2 -> 0 | E10: ペア | F10: 女子A級 | H10: =COUNTA(女子A級!A8:A45)/2 -> 0 | I10: ペア | J10: 女子40才以上 | K10: =COUNTA('女子40-60歳'!A8:A21)/2 -> 0 | L10: ペア
B11: 男子45才以上 | C11: =COUNTA('男子35,45歳'!A28:A45)/2 -> 0 | E11: ペア | F11: 女子日曜B級 | H11: =COUNTA(女子日曜B級!A8:A45)/2 -> 0 | I11: ペア | J11: 女子50才以上 | K11: =COUNTA('女子40-60歳'!A24:A37)/2 -> 0 | L11: ペア
B12: 男子50才以上 | C12: =COUNTA('男子50,55'!A8:A25)/2 -> 0 | E12: ペア | F12: 女子日曜C級 | H12: =COUNTA(女子日曜C級!A8:A45)/2 -> 0 | I12: ペア | J12: 女子60才以上 | K12: =COUNTA('女子40-60歳'!A40:A45)/2 -> 0 | L12: ペア
B13: 男子55才以上 | C13: =COUNTA('男子50,55'!A28:A45)/2 -> 0 | E13: ペア | F13: 女子日曜初級 | H13: =COUNTA(女子日曜初級!A8:A45)/2 -> 0 | I13: ペア
J14: 合 計 | K14: =SUM(C7:D13)+SUM(H7:H13)+SUM(K7:K12) -> 0 | L14: ペア
A15: 団 体 名 | C15: ( | K15: ）
A16: 責任者氏名 | C16: ( | K16: ）
A17: 住 所 | C17: ( | L17: ）
A18: TEL | C18: ( | I18: ）
A19: 以上、参加料 | C19: ( | D19: =K14*3000 -> 0 | G19: ）円、登録費 ( | K19: ）円、
A20: 合計（ | B20: =D19+J19 -> 0 | E20: ）円相添え、参加申込致します。
C22: 色セルのみ入力して下さい。
A24: 必ず上記団体名、責任者氏名、住所、TEL、参加料金を記入し、この用紙も返送願います。協会の領収書は発行いたしません。郵便局発行の領収書を使用願います。

Sheet 男子A級
D4: 男子Ａ級 ダブルス申込書（種目別）
A5: 選手氏名 | B5: 所属団体名 | C5: No | D5: 選手氏名 | E5: 所属団体名 | F5: 参考戦績 | G5: 登録
A6: 堺市太郎 | B6: 堺市クラブ | C6: 例 | D6: 堺市太郎 | E6: 堺市クラブ | F6: 堺市オープン複優勝 | G6: ○
A7: 堺市次郎 | B7: 堺市クラブ | D7: 堺市次郎 | E7: 堺市クラブ | F7: 堺市オープン複優勝 | G7: 未
C8: 1 | D8: =IF(A8="","",A8) | E8: =IF(B8="","",B8) | I8: ○
D9: =IF(A9="","",A9) | E9: =IF(B9="","",B9) | I9: 未
C10: 2 | D10: =IF(A10="","",A10) | E10: =IF(B10="","",B10)
D11: =IF(A11="","",A11) | E11: =IF(B11="","",B11)
C12: 3 | D12: =IF(A12="","",A12) | E12: =IF(B12="","",B12)
D13: =IF(A13="","",A13) | E13: =IF(B13="","",B13)
C14: 4 | D14: =IF(A14="","",A14) | E14: =IF(B14="","",B14)
D15: =IF(A15="","",A15) | E15: =IF(B15="","",B15)
C16: 5 | D16: =IF(A16="","",A16) | E16: =IF(B16="","",B16)
D17: =IF(A17="","",A17) | E17: =IF(B17="","",B17)
C18: 6 | D18: =IF(A18="","",A18) | E18: =IF(B18="","",B18)
D19: =IF(A19="","",A19) | E19: =IF(B19="","",B19)
C20: 7 | D20: =IF(A20="","",A20) | E20: =IF(B20="","",B20)
D21: =IF(A21="","",A21) | E21: =IF(B21="","",B21)
C22: 8 | D22: =IF(A22="","",A22) | E22: =IF(B22="","",B22)
D23: =IF(A23="","",A23) | E23: =IF(B23="","",B23)
C24: 9 | D24: =IF(A24="","",A24) | E24: =IF(B24="","",B24)
D25: =IF(A25="","",A25) | E25: =IF(B25="","",B25)
C26: 10 | D26: =IF(A26="","",A26) | E26: =IF(B26="","",B26)
D27: =IF(A27="","",A27) | E27: =IF(B27="","",B27)
C28: 11 | D28: =IF(A28="","",A28) | E28: =IF(B28="","",B28)
D29: =IF(A29="","",A29) | E29: =IF(B29="","",B29)
C30: 12 | D30: =IF(A30="","",A30) | E30: =IF(B30="","",B30)
D31: =IF(A31="","",A31) | E31: =IF(B31="","",B31)
C32: 13 | D32: =IF(A32="","",A32) | E32: =IF(B32="","",B32)
D33: =IF(A33="","",A33) | E33: =IF(B33="","",B33)
C34: 14 | D34: =IF(A34="","",A34) | E34: =IF(B34="","",B34)
D35: =IF(A35="","",A35) | E35: =IF(B35="","",B35)
C36: 15 | D36: =IF(A36="","",A36) | E36: =IF(B36="","",B36)
D37: =IF(A37="","",A37) | E37: =IF(B37="","",B37)
C38: 16 | D38: =IF(A38="","",A38) | E38: =IF(B38="","",B38)
D39: =IF(A39="","",A39) | E39: =IF(B39="","",B39)
C40: 17 | D40: =IF(A40="","",A40) | E40: =IF(B40="","",B40)
D41: =IF(A41="","",A41) | E41: =IF(B41="","",B41)
C42: 18 | D42: =IF(A42="","",A42) | E42: =IF(B42="","",B42)
D43: =IF(A43="","",A43) | E43: =IF(B43="","",B43)
C44: 19 | D44: =IF(A44="","",A44) | E44: =IF(B44="","",B44)
D45: =IF(A45="","",A45) | E45: =IF(B45="","",B45)

Sheet 男子B級
D4: 男子B級 ダブルス申込書（種目別）
A5: 選手氏名 | B5: 所属団体名 | C5: No | D5: 選手氏名 | E5: 所属団体名 | F5: 参考戦績 | G5: 登録
A6: 堺市太郎 | B6: 堺市クラブ | C6: 例 | D6: 堺市太郎 | E6: 堺市クラブ | F6: 堺市オープン複優勝 | G6: ○
A7: 堺市次郎 | B7: 堺市クラブ | D7: 堺市次郎 | E7: 堺市クラブ | F7: 堺市オープン複優勝 | G7: 未
C8: 1 | D8: =IF(A8="","",A8) | E8: =IF(B8="","",B8) | I8: ○
D9: =IF(A9="","",A9) | E9: =IF(B9="","",B9) | I9: 未
C10: 2 | D10: =IF(A10="","",A10) | E10: =IF(B10="","",B10)
D11: =IF(A11="","",A11) | E11: =IF(B11="","",B11)
C12: 3 | D12: =IF(A12="","",A12) | E12: =IF(B12="","",B12)
D13: =IF(A13="","",A13) | E13: =IF(B13="","",B13)
C14: 4 | D14: =IF(A14="","",A14) | E14: =IF(B14="","",B14)
D15: =IF(A15="","",A15) | E15: =IF(B15="","",B15)
C16: 5 | D16: =IF(A16="","",A16) | E16: =IF(B16="","",B16)
D17: =IF(A17="","",A17) | E17: =IF(B17="","",B17)
C18: 6 | D18: =IF(A18="","",A18) | E18: =IF(B18="","",B18)
D19: =IF(A19="","",A19) | E19: =IF(B19="","",B19)
C20: 7 | D20: =IF(A20="","",A20) | E20: =IF(B20="","",B20)
D21: =IF(A21="","",A21) | E21: =IF(B21="","",B21)
C22: 8 | D22: =IF(A22="","",A22) | E22: =IF(B22="","",B22)
D23: =IF(A23="","",A23) | E23: =IF(B23="","",B23)
C24: 9 | D24: =IF(A24="","",A24) | E24: =IF(B24="","",B24)
D25: =IF(A25="","",A25) | E25: =IF(B25="","",B25)
C26: 10 | D26: =IF(A26="","",A26) | E26: =IF(B26="","",B26)
D27: =IF(A27="","",A27) | E27: =IF(B27="","",B27)
C28: 11 | D28: =IF(A28="","",A28) | E28: =IF(B28="","",B28)
D29: =IF(A29="","",A29) | E29: =IF(B29="","",B29)
C30: 12 | D30: =IF(A30="","",A30) | E30: =IF(B30="","",B30)
D31: =IF(A31="","",A31) | E31: =IF(B31="","",B31)
C32: 13 | D32: =IF(A32="","",A32) | E32: =IF(B32="","",B32)
D33: =IF(A33="","",A33) | E33: =IF(B33="","",B33)
C34: 14 | D34: =IF(A34="","",A34) | E34: =IF(B34="","",B34)
D35: =IF(A35="","",A35) | E35: =IF(B35="","",B35)
C36: 15 | D36: =IF(A36="","",A36) | E36: =IF(B36="","",B36)
D37: =IF(A37="","",A37) | E37: =IF(B37="","",B37)
C38: 16 | D38: =IF(A38="","",A38) | E38: =IF(B38="","",B38)
D39: =IF(A39="","",A39) | E39: =IF(B39="","",B39)
C40: 17 | D40: =IF(A40="","",A40) | E40: =IF(B40="","",B40)
D41: =IF(A41="","",A41) | E41: =IF(B41="","",B41)
C42: 18 | D42: =IF(A42="","",A42) | E42: =IF(B42="","",B42)
D43: =IF(A43="","",A43) | E43: =IF(B43="","",B43)
C44: 19 | D44: =IF(A44="","",A44) | E44: =IF(B44="","",B44)
D45: =IF(A45="","",A45) | E45: =IF(B45="","",B45)

Sheet 男子C級
D4: 男子C級 ダブルス申込書（種目別）
A5: 選手氏名 | B5: 所属団体名 | C5: No | D5: 選手氏名 | E5: 所属団体名 | F5: 参考戦績 | G5: 登録
A6: 堺市太郎 | B6: 堺市クラブ | C6: 例 | D6: 堺市太郎 | E6: 堺市クラブ | F6: 堺市オープン複優勝 | G6: ○
A7: 堺市次郎 | B7: 堺市クラブ | D7: 堺市次郎 | E7: 堺市クラブ | F7: 堺市オープン複優勝 | G7: 未
C8: 1 | D8: =IF(A8="","",A8) | E8: =IF(B8="","",B8) | I8: ○
D9: =IF(A9="","",A9) | E9: =IF(B9="","",B9) | I9: 未
C10: 2 | D10: =IF(A10="","",A10) | E10: =IF(B10="","",B10)
D11: =IF(A11="","",A11) | E11: =IF(B11="","",B11)
C12: 3 | D12: =IF(A12="","",A12) | E12: =IF(B12="","",B12)
D13: =IF(A13="","",A13) | E13: =IF(B13="","",B13)
C14: 4 | D14: =IF(A14="","",A14) | E14: =IF(B14="","",B14)
D15: =IF(A15="","",A15) | E15: =IF(B15="","",B15)
C16: 5 | D16: =IF(A16="","",A16) | E16: =IF(B16="","",B16)
D17: =IF(A17="","",A17) | E17: =IF(B17="","",B17)
C18: 6 | D18: =IF(A18="","",A18) | E18: =IF(B18="","",B18)
D19: =IF(A19="","",A19) | E19: =IF(B19="","",B19)
C20: 7 | D20: =IF(A20="","",A20) | E20: =IF(B20="","",B20)
D21: =IF(A21="","",A21) | E21: =IF(B21="","",B21)
C22: 8 | D22: =IF(A22="","",A22) | E22: =IF(B22="","",B22)
D23: =IF(A23="","",A23) | E23: =IF(B23="","",B23)
C24: 9 | D24: =IF(A24="","",A24) | E24: =IF(B24="","",B24)
D25: =IF(A25="","",A25) | E25: =IF(B25="","",B25)
C26: 10 | D26: =IF(A26="","",A26) | E26: =IF(B26="","",B26)
D27: =IF(A27="","",A27) | E27: =IF(B27="","",B27)
C28: 11 | D28: =IF(A28="","",A28) | E28: =IF(B28="","",B28)
D29: =IF(A29="","",A29) | E29: =IF(B29="","",B29)
C30: 12 | D30: =IF(A30="","",A30) | E30: =IF(B30="","",B30)
D31: =IF(A31="","",A31) | E31: =IF(B31="","",B31)
C32: 13 | D32: =IF(A32="","",A32) | E32: =IF(B32="","",B32)
D33: =IF(A33="","",A33) | E33: =IF(B33="","",B33)
C34: 14 | D34: =IF(A34="","",A34) | E34: =IF(B34="","",B34)
D35: =IF(A35="","",A35) | E35: =IF(B35="","",B35)
C36: 15 | D36: =IF(A36="","",A36) | E36: =IF(B36="","",B36)
D37: =IF(A37="","",A37) | E37: =IF(B37="","",B37)
C38: 16 | D38: =IF(A38="","",A38) | E38: =IF(B38="","",B38)
D39: =IF(A39="","",A39) | E39: =IF(B39="","",B39)
C40: 17 | D40: =IF(A40="","",A40) | E40: =IF(B40="","",B40)
D41: =IF(A41="","",A41) | E41: =IF(B41="","",B41)
C42: 18 | D42: =IF(A42="","",A42) | E42: =IF(B42="","",B42)
D43: =IF(A43="","",A43) | E43: =IF(B43="","",B43)
C44: 19 | D44: =IF(A44="","",A44) | E44: =IF(B44="","",B44)
D45: =IF(A45="","",A45) | E45: =IF(B45="","",B45)

Sheet 女子A級
D4: 女子Ａ級 ダブルス申込書（種目別）
A5: 選手氏名 | B5: 所属団体名 | C5: No | D5: 選手氏名 | E5: 所属団体名 | F5: 参考戦績 | G5: 登録
A6: 堺市花子 | B6: 堺市クラブ | C6: 例 | D6: 堺市花子 | E6: 堺市クラブ | F6: 堺市オープン複優勝 | G6: ○
A7: 堺市百恵 | B7: 堺市クラブ | D7: 堺市百恵 | E7: 堺市クラブ | F7: 堺市オープン複優勝 | G7: 未
C8: 1 | D8: =IF(A8="","",A8) | E8: =IF(B8="","",B8) | I8: ○
D9: =IF(A9="","",A9) | E9: =IF(B9="","",B9) | I9: 未
C10: 2 | D10: =IF(A10="","",A10) | E10: =IF(B10="","",B10)
D11: =IF(A11="","",A11) | E11: =IF(B11="","",B11)
C12: 3 | D12: =IF(A12="","",A12) | E12: =IF(B12="","",B12)
D13: =IF(A13="","",A13) | E13: =IF(B13="","",B13)
C14: 4 | D14: =IF(A14="","",A14) | E14: =IF(B14="","",B14)
D15: =IF(A15="","",A15) | E15: =IF(B15="","",B15)
C16: 5 | D16: =IF(A16="","",A16) | E16: =IF(B16="","",B16)
D17: =IF(A17="","",A17) | E17: =IF(B17="","",B17)
C18: 6 | D18: =IF(A18="","",A18) | E18: =IF(B18="","",B18)
D19: =IF(A19="","",A19) | E19: =IF(B19="","",B19)
C20: 7 | D20: =IF(A20="","",A20) | E20: =IF(B20="","",B20)
D21: =IF(A21="","",A21) | E21: =IF(B21="","",B21)
C22: 8 | D22: =IF(A22="","",A22) | E22: =IF(B22="","",B22)
D23: =IF(A23="","",A23) | E23: =IF(B23="","",B23)
C24: 9 | D24: =IF(A24="","",A24) | E24: =IF(B24="","",B24)
D25: =IF(A25="","",A25) | E25: =IF(B25="","",B25)
C26: 10 | D26: =IF(A26="","",A26) | E26: =IF(B26="","",B26)
D27: =IF(A27="","",A27) | E27: =IF(B27="","",B27)
C28: 11 | D28: =IF(A28="","",A28) | E28: =IF(B28="","",B28)
D29: =IF(A29="","",A29) | E29: =IF(B29="","",B29)
C30: 12 | D30: =IF(A30="","",A30) | E30: =IF(B30="","",B30)
D31: =IF(A31="","",A31) | E31: =IF(B31="","",B31)
C32: 13 | D32: =IF(A32="","",A32) | E32: =IF(B32="","",B32)
D33: =IF(A33="","",A33) | E33: =IF(B33="","",B33)
C34: 14 | D34: =IF(A34="","",A34) | E34: =IF(B34="","",B34)
D35: =IF(A35="","",A35) | E35: =IF(B35="","",B35)
C36: 15 | D36: =IF(A36="","",A36) | E36: =IF(B36="","",B36)
D37: =IF(A37="","",A37) | E37: =IF(B37="","",B37)
C38: 16 | D38: =IF(A38="","",A38) | E38: =IF(B38="","",B38)
D39: =IF(A39="","",A39) | E39: =IF(B39="","",B39)
C40: 17 | D40: =IF(A40="","",A40) | E40: =IF(B40="","",B40)
D41: =IF(A41="","",A41) | E41: =IF(B41="","",B41)
C42: 18 | D42: =IF(A42="","",A42) | E42: =IF(B42="","",B42)
D43: =IF(A43="","",A43) | E43: =IF(B43="","",B43)
C44: 19 | D44: =IF(A44="","",A44) | E44: =IF(B44="","",B44)
D45: =IF(A45="","",A45) | E45: =IF(B45="","",B45)

Sheet 女子日曜B級
D4: 女子B級 ダブルス申込書（種目別）
A5: 選手氏名 | B5: 所属団体名 | C5: No | D5: 選手氏名 | E5: 所属団体名 | F5: 参考戦績 | G5: 登録
A6: 堺市花子 | B6: 堺市クラブ | C6: 例 | D6: 堺市花子 | E6: 堺市クラブ | F6: 堺市オープン複優勝 | G6: ○
A7: 堺市百恵 | B7: 堺市クラブ | D7: 堺市百恵 | E7: 堺市クラブ | F7: 堺市オープン複優勝 | G7: 未
C8: 1 | D8: =IF(A8="","",A8) | E8: =IF(B8="","",B8) | I8: ○
D9: =IF(A9="","",A9) | E9: =IF(B9="","",B9) | I9: 未
C10: 2 | D10: =IF(A10="","",A10) | E10: =IF(B10="","",B10)
D11: =IF(A11="","",A11) | E11: =IF(B11="","",B11)
C12: 3 | D12: =IF(A12="","",A12) | E12: =IF(B12="","",B12)
D13: =IF(A13="","",A13) | E13: =IF(B13="","",B13)
C14: 4 | D14: =IF(A14="","",A14) | E14: =IF(B14="","",B14)
D15: =IF(A15="","",A15) | E15: =IF(B15="","",B15)
C16: 5 | D16: =IF(A16="","",A16) | E16: =IF(B16="","",B16)
D17: =IF(A17="","",A17) | E17: =IF(B17="","",B17)
C18: 6 | D18: =IF(A18="","",A18) | E18: =IF(B18="","",B18)
D19: =IF(A19="","",A19) | E19: =IF(B19="","",B19)
C20: 7 | D20: =IF(A20="","",A20) | E20: =IF(B20="","",B20)
D21: =IF(A21="","",A21) | E21: =IF(B21="","",B21)
C22: 8 | D22: =IF(A22="","",A22) | E22: =IF(B22="","",B22)
D23: =IF(A23="","",A23) | E23: =IF(B23="","",B23)
C24: 9 | D24: =IF(A24="","",A24) | E24: =IF(B24="","",B24)
D25: =IF(A25="","",A25) | E25: =IF(B25="","",B25)
C26: 10 | D26: =IF(A26="","",A26) | E26: =IF(B26="","",B26)
D27: =IF(A27="","",A27) | E27: =IF(B27="","",B27)
C28: 11 | D28: =IF(A28="","",A28) | E28: =IF(B28="","",B28)
D29: =IF(A29="","",A29) | E29: =IF(B29="","",B29)
C30: 12 | D30: =IF(A30="","",A30) | E30: =IF(B30="","",B30)
D31: =IF(A31="","",A31) | E31: =IF(B31="","",B31)
C32: 13 | D32: =IF(A32="","",A32) | E32: =IF(B32="","",B32)
D33: =IF(A33="","",A33) | E33: =IF(B33="","",B33)
C34: 14 | D34: =IF(A34="","",A34) | E34: =IF(B34="","",B34)
D35: =IF(A35="","",A35) | E35: =IF(B35="","",B35)
C36: 15 | D36: =IF(A36="","",A36) | E36: =IF(B36="","",B36)
D37: =IF(A37="","",A37) | E37: =IF(B37="","",B37)
C38: 16 | D38: =IF(A38="","",A38) | E38: =IF(B38="","",B38)
D39: =IF(A39="","",A39) | E39: =IF(B39="","",B39)
C40: 17 | D40: =IF(A40="","",A40) | E40: =IF(B40="","",B40)
D41: =IF(A41="","",A41) | E41: =IF(B41="","",B41)
C42: 18 | D42: =IF(A42="","",A42) | E42: =IF(B42="","",B42)
D43: =IF(A43="","",A43) | E43: =IF(B43="","",B43)
C44: 19 | D44: =IF(A44="","",A44) | E44: =IF(B44="","",B44)
D45: =IF(A45="","",A45) | E45: =IF(B45="","",B45)

Sheet 女子日曜C級
D4: 女子C級 ダブルス申込書（種目別）
A5: 選手氏名 | B5: 所属団体名 | C5: No | D5: 選手氏名 | E5: 所属団体名 | F5: 参考戦績 | G5: 登録
A6: 堺市花子 | B6: 堺市クラブ | C6: 例 | D6: 堺市花子 | E6: 堺市クラブ | F6: 堺市オープン複優勝 | G6: ○
A7: 堺市百恵 | B7: 堺市クラブ | D7: 堺市百恵 | E7: 堺市クラブ | F7: 堺市オープン複優勝 | G7: 未
C8: 1 | D8: =IF(A8="","",A8) | E8: =IF(B8="","",B8) | I8: ○
D9: =IF(A9="","",A9) | E9: =IF(B9="","",B9) | I9: 未
C10: 2 | D10: =IF(A10="","",A10) | E10: =IF(B10="","",B10)
D11: =IF(A11="","",A11) | E11: =IF(B11="","",B11)
C12: 3 | D12: =IF(A12="","",A12) | E12: =IF(B12="","",B12)
D13: =IF(A13="","",A13) | E13: =IF(B13="","",B13)
C14: 4 | D14: =IF(A14="","",A14) | E14: =IF(B14="","",B14)
D15: =IF(A15="","",A15) | E15: =IF(B15="","",B15)
C16: 5 | D16: =IF(A16="","",A16) | E16: =IF(B16="","",B16)
D17: =IF(A17="","",A17) | E17: =IF(B17="","",B17)
C18: 6 | D18: =IF(A18="","",A18) | E18: =IF(B18="","",B18)
D19: =IF(A19="","",A19) | E19: =IF(B19="","",B19)
C20: 7 | D20: =IF(A20="","",A20) | E20: =IF(B20="","",B20)
D21: =IF(A21="","",A21) | E21: =IF(B21="","",B21)
C22: 8 | D22: =IF(A22="","",A22) | E22: =IF(B22="","",B22)
D23: =IF(A23="","",A23) | E23: =IF(B23="","",B23)
C24: 9 | D24: =IF(A24="","",A24) | E24: =IF(B24="","",B24)
D25: =IF(A25="","",A25) | E25: =IF(B25="","",B25)
C26: 10 | D26: =IF(A26="","",A26) | E26: =IF(B26="","",B26)
D27: =IF(A27="","",A27) | E27: =IF(B27="","",B27)
C28: 11 | D28: =IF(A28="","",A28) | E28: =IF(B28="","",B28)
D29: =IF(A29="","",A29) | E29: =IF(B29="","",B29)
C30: 12 | D30: =IF(A30="","",A30) | E30: =IF(B30="","",B30)
D31: =IF(A31="","",A31) | E31: =IF(B31="","",B31)
C32: 13 | D32: =IF(A32="","",A32) | E32: =IF(B32="","",B32)
D33: =IF(A33="","",A33) | E33: =IF(B33="","",B33)
C34: 14 | D34: =IF(A34="","",A34) | E34: =IF(B34="","",B34)
D35: =IF(A35="","",A35) | E35: =IF(B35="","",B35)
C36: 15 | D36: =IF(A36="","",A36) | E36: =IF(B36="","",B36)
D37: =IF(A37="","",A37) | E37: =IF(B37="","",B37)
C38: 16 | D38: =IF(A38="","",A38) | E38: =IF(B38="","",B38)
D39: =IF(A39="","",A39) | E39: =IF(B39="","",B39)
C40: 17 | D40: =IF(A40="","",A40) | E40: =IF(B40="","",B40)
D41: =IF(A41="","",A41) | E41: =IF(B41="","",B41)
C42: 18 | D42: =IF(A42="","",A42) | E42: =IF(B42="","",B42)
D43: =IF(A43="","",A43) | E43: =IF(B43="","",B43)
C44: 19 | D44: =IF(A44="","",A44) | E44: =IF(B44="","",B44)
D45: =IF(A45="","",A45) | E45: =IF(B45="","",B45)

Sheet 女子日曜初級
D4: 日曜一般女子初級 ダブルス申込書（種目別）
A5: 選手氏名 | B5: 所属団体名 | C5: No | D5: 選手氏名 | E5: 所属団体名 | F5: 参考戦績 | G5: 登録
A6: 堺市花子 | B6: 堺市クラブ | C6: 例 | D6: 堺市花子 | E6: 堺市クラブ | F6: 堺市オープン複優勝 | G6: ○
A7: 堺市百恵 | B7: 堺市クラブ | D7: 堺市百恵 | E7: 堺市クラブ | F7: 堺市オープン複優勝 | G7: 未
C8: 1 | D8: =IF(A8="","",A8) | E8: =IF(B8="","",B8) | I8: ○
D9: =IF(A9="","",A9) | E9: =IF(B9="","",B9) | I9: 未
C10: 2 | D10: =IF(A10="","",A10) | E10: =IF(B10="","",B10)
D11: =IF(A11="","",A11) | E11: =IF(B11="","",B11)
C12: 3 | D12: =IF(A12="","",A12) | E12: =IF(B12="","",B12)
D13: =IF(A13="","",A13) | E13: =IF(B13="","",B13)
C14: 4 | D14: =IF(A14="","",A14) | E14: =IF(B14="","",B14)
D15: =IF(A15="","",A15) | E15: =IF(B15="","",B15)
C16: 5 | D16: =IF(A16="","",A16) | E16: =IF(B16="","",B16)
D17: =IF(A17="","",A17) | E17: =IF(B17="","",B17)
C18: 6 | D18: =IF(A18="","",A18) | E18: =IF(B18="","",B18)
D19: =IF(A19="","",A19) | E19: =IF(B19="","",B19)
C20: 7 | D20: =IF(A20="","",A20) | E20: =IF(B20="","",B20)
D21: =IF(A21="","",A21) | E21: =IF(B21="","",B21)
C22: 8 | D22: =IF(A22="","",A22) | E22: =IF(B22="","",B22)
D23: =IF(A23="","",A23) | E23: =IF(B23="","",B23)
C24: 9 | D24: =IF(A24="","",A24) | E24: =IF(B24="","",B24)
D25: =IF(A25="","",A25) | E25: =IF(B25="","",B25)
C26: 10 | D26: =IF(A26="","",A26) | E26: =IF(B26="","",B26)
D27: =IF(A27="","",A27) | E27: =IF(B27="","",B27)
C28: 11 | D28: =IF(A28="","",A28) | E28: =IF(B28="","",B28)
D29: =IF(A29="","",A29) | E29: =IF(B29="","",B29)
C30: 12 | D30: =IF(A30="","",A30) | E30: =IF(B30="","",B30)
D31: =IF(A31="","",A31) | E31: =IF(B31="","",B31)
C32: 13 | D32: =IF(A32="","",A32) | E32: =IF(B32="","",B32)
D33: =IF(A33="","",A33) | E33: =IF(B33="","",B33)
C34: 14 | D34: =IF(A34="","",A34) | E34: =IF(B34="","",B34)
D35: =IF(A35="","",A35) | E35: =IF(B35="","",B35)
C36: 15 | D36: =IF(A36="","",A36) | E36: =IF(B36="","",B36)
D37: =IF(A37="","",A37) | E37: =IF(B37="","",B37)
C38: 16 | D38: =IF(A38="","",A38) | E38: =IF(B38="","",B38)
D39: =IF(A39="","",A39) | E39: =IF(B39="","",B39)
C40: 17 | D40: =IF(A40="","",A40) | E40: =IF(B40="","",B40)
D41: =IF(A41="","",A41) | E41: =IF(B41="","",B41)
C42: 18 | D42: =IF(A42="","",A42) | E42: =IF(B42="","",B42)
D43: =IF(A43="","",A43) | E43: =IF(B43="","",B43)
C44: 19 | D44: =IF(A44="","",A44) | E44: =IF(B44="","",B44)
D45: =IF(A45="","",A45) | E45: =IF(B45="","",B45)

Sheet 女子平日B級
D4: 平日一般女子B級 ダブルス申込書（種目別）
A5: 選手氏名 | B5: 所属団体名 | C5: No | D5: 選手氏名 | E5: 所属団体名 | F5: 参考戦績 | G5: 登録
A6: 堺市花子 | B6: 堺市クラブ | C6: 例 | D6: 堺市花子 | E6: 堺市クラブ | F6: 堺市オープン複優勝 | G6: ○
A7: 堺市百恵 | B7: 堺市クラブ | D7: 堺市百恵 | E7: 堺市クラブ | F7: 堺市オープン複優勝 | G7: 未
C8: 1 | D8: =IF(A8="","",A8) | E8: =IF(B8="","",B8) | I8: ○
D9: =IF(A9="","",A9) | E9: =IF(B9="","",B9) | I9: 未
C10: 2 | D10: =IF(A10="","",A10) | E10: =IF(B10="","",B10)
D11: =IF(A11="","",A11) | E11: =IF(B11="","",B11)
C12: 3 | D12: =IF(A12="","",A12) | E12: =IF(B12="","",B12)
D13: =IF(A13="","",A13) | E13: =IF(B13="","",B13)
C14: 4 | D14: =IF(A14="","",A14) | E14: =IF(B14="","",B14)
D15: =IF(A15="","",A15) | E15: =IF(B15="","",B15)
C16: 5 | D16: =IF(A16="","",A16) | E16: =IF(B16="","",B16)
D17: =IF(A17="","",A17) | E17: =IF(B17="","",B17)
C18: 6 | D18: =IF(A18="","",A18) | E18: =IF(B18="","",B18)
D19: =IF(A19="","",A19) | E19: =IF(B19="","",B19)
C20: 7 | D20: =IF(A20="","",A20) | E20: =IF(B20="","",B20)
D21: =IF(A21="","",A21) | E21: =IF(B21="","",B21)
C22: 8 | D22: =IF(A22="","",A22) | E22: =IF(B22="","",B22)
D23: =IF(A23="","",A23) | E23: =IF(B23="","",B23)
C24: 9 | D24: =IF(A24="","",A24) | E24: =IF(B24="","",B24)
D25: =IF(A25="","",A25) | E25: =IF(B25="","",B25)
C26: 10 | D26: =IF(A26="","",A26) | E26: =IF(B26="","",B26)
D27: =IF(A27="","",A27) | E27: =IF(B27="","",B27)
C28: 11 | D28: =IF(A28="","",A28) | E28: =IF(B28="","",B28)
D29: =IF(A29="","",A29) | E29: =IF(B29="","",B29)
C30: 12 | D30: =IF(A30="","",A30) | E30: =IF(B30="","",B30)
D31: =IF(A31="","",A31) | E31: =IF(B31="","",B31)
C32: 13 | D32: =IF(A32="","",A32) | E32: =IF(B32="","",B32)
D33: =IF(A33="","",A33) | E33: =IF(B33="","",B33)
C34: 14 | D34: =IF(A34="","",A34) | E34: =IF(B34="","",B34)
D35: =IF(A35="","",A35) | E35: =IF(B35="","",B35)
C36: 15 | D36: =IF(A36="","",A36) | E36: =IF(B36="","",B36)
D37: =IF(A37="","",A37) | E37: =IF(B37="","",B37)
C38: 16 | D38: =IF(A38="","",A38) | E38: =IF(B38="","",B38)
D39: =IF(A39="","",A39) | E39: =IF(B39="","",B39)
C40: 17 | D40: =IF(A40="","",A40) | E40: =IF(B40="","",B40)
D41: =IF(A41="","",A41) | E41: =IF(B41="","",B41)
C42: 18 | D42: =IF(A42="","",A42) | E42: =IF(B42="","",B42)
D43: =IF(A43="","",A43) | E43: =IF(B43="","",B43)
C44: 19 | D44: =IF(A44="","",A44) | E44: =IF(B44="","",B44)
D45: =IF(A45="","",A45) | E45: =IF(B45="","",B45)

Sheet 女子平日C級
D4: 平日一般女子C級 ダブルス申込書（種目別）
A5: 選手氏名 | B5: 所属団体名 | C5: No | D5: 選手氏名 | E5: 所属団体名 | F5: 参考戦績 | G5: 登録
A6: 堺市花子 | B6: 堺市クラブ | C6: 例 | D6: 堺市花子 | E6: 堺市クラブ | F6: 堺市オープン複優勝 | G6: ○
A7: 堺市百恵 | B7: 堺市クラブ | D7: 堺市百恵 | E7: 堺市クラブ | F7: 堺市オープン複優勝 | G7: 未
C8: 1 | D8: =IF(A8="","",A8) | E8: =IF(B8="","",B8) | I8: ○
D9: =IF(A9="","",A9) | E9: =IF(B9="","",B9) | I9: 未
C10: 2 | D10: =IF(A10="","",A10) | E10: =IF(B10="","",B10)
D11: =IF(A11="","",A11) | E11: =IF(B11="","",B11)
C12: 3 | D12: =IF(A12="","",A12) | E12: =IF(B12="","",B12)
D13: =IF(A13="","",A13) | E13: =IF(B13="","",B13)
C14: 4 | D14: =IF(A14="","",A14) | E14: =IF(B14="","",B14)
D15: =IF(A15="","",A15) | E15: =IF(B15="","",B15)
C16: 5 | D16: =IF(A16="","",A16) | E16: =IF(B16="","",B16)
D17: =IF(A17="","",A17) | E17: =IF(B17="","",B17)
C18: 6 | D18: =IF(A18="","",A18) | E18: =IF(B18="","",B18)
D19: =IF(A19="","",A19) | E19: =IF(B19="","",B19)
C20: 7 | D20: =IF(A20="","",A20) | E20: =IF(B20="","",B20)
D21: =IF(A21="","",A21) | E21: =IF(B21="","",B21)
C22: 8 | D22: =IF(A22="","",A22) | E22: =IF(B22="","",B22)
D23: =IF(A23="","",A23) | E23: =IF(B23="","",B23)
C24: 9 | D24: =IF(A24="","",A24) | E24: =IF(B24="","",B24)
D25: =IF(A25="","",A25) | E25: =IF(B25="","",B25)
C26: 10 | D26: =IF(A26="","",A26) | E26: =IF(B26="","",B26)
D27: =IF(A27="","",A27) | E27: =IF(B27="","",B27)
C28: 11 | D28: =IF(A28="","",A28) | E28: =IF(B28="","",B28)
D29: =IF(A29="","",A29) | E29: =IF(B29="","",B29)
C30: 12 | D30: =IF(A30="","",A30) | E30: =IF(B30="","",B30)
D31: =IF(A31="","",A31) | E31: =IF(B31="","",B31)
C32: 13 | D32: =IF(A32="","",A32) | E32: =IF(B32="","",B32)
D33: =IF(A33="","",A33) | E33: =IF(B33="","",B33)
C34: 14 | D34: =IF(A34="","",A34) | E34: =IF(B34="","",B34)
D35: =IF(A35="","",A35) | E35: =IF(B35="","",B35)
C36: 15 | D36: =IF(A36="","",A36) | E36: =IF(B36="","",B36)
D37: =IF(A37="","",A37) | E37: =IF(B37="","",B37)
C38: 16 | D38: =IF(A38="","",A38) | E38: =IF(B38="","",B38)
D39: =IF(A39="","",A39) | E39: =IF(B39="","",B39)
C40: 17 | D40: =IF(A40="","",A40) | E40: =IF(B40="","",B40)
D41: =IF(A41="","",A41) | E41: =IF(B41="","",B41)
C42: 18 | D42: =IF(A42="","",A42) | E42: =IF(B42="","",B42)
D43: =IF(A43="","",A43) | E43: =IF(B43="","",B43)
C44: 19 | D44: =IF(A44="","",A44) | E44: =IF(B44="","",B44)
D45: =IF(A45="","",A45) | E45: =IF(B45="","",B45)

Sheet 女子平日初級
D4: 平日一般女子初級 ダブルス申込書（種目別）
A5: 選手氏名 | B5: 所属団体名 | C5: No | D5: 選手氏名 | E5: 所属団体名 | F5: 参考戦績 | G5: 登録
A6: 堺市花子 | B6: 堺市クラブ | C6: 例 | D6: 堺市花子 | E6: 堺市クラブ | F6: 堺市オープン複優勝 | G6: ○
A7: 堺市百恵 | B7: 堺市クラブ | D7: 堺市百恵 | E7: 堺市クラブ | F7: 堺市オープン複優勝 | G7: 未
C8: 1 | D8: =IF(A8="","",A8) | E8: =IF(B8="","",B8) | I8: ○
D9: =IF(A9="","",A9) | E9: =IF(B9="","",B9) | I9: 未
C10: 2 | D10: =IF(A10="","",A10) | E10: =IF(B10="","",B10)
D11: =IF(A11="","",A11) | E11: =IF(B11="","",B11)
C12: 3 | D12: =IF(A12="","",A12) | E12: =IF(B12="","",B12)
D13: =IF(A13="","",A13) | E13: =IF(B13="","",B13)
C14: 4 | D14: =IF(A14="","",A14) | E14: =IF(B14="","",B14)
D15: =IF(A15="","",A15) | E15: =IF(B15="","",B15)
C16: 5 | D16: =IF(A16="","",A16) | E16: =IF(B16="","",B16)
D17: =IF(A17="","",A17) | E17: =IF(B17="","",B17)
C18: 6 | D18: =IF(A18="","",A18) | E18: =IF(B18="","",B18)
D19: =IF(A19="","",A19) | E19: =IF(B19="","",B19)
C20: 7 | D20: =IF(A20="","",A20) | E20: =IF(B20="","",B20)
D21: =IF(A21="","",A21) | E21: =IF(B21="","",B21)
C22: 8 | D22: =IF(A22="","",A22) | E22: =IF(B22="","",B22)
D23: =IF(A23="","",A23) | E23: =IF(B23="","",B23)
C24: 9 | D24: =IF(A24="","",A24) | E24: =IF(B24="","",B24)
D25: =IF(A25="","",A25) | E25: =IF(B25="","",B25)
C26: 10 | D26: =IF(A26="","",A26) | E26: =IF(B26="","",B26)
D27: =IF(A27="","",A27) | E27: =IF(B27="","",B27)
C28: 11 | D28: =IF(A28="","",A28) | E28: =IF(B28="","",B28)
D29: =IF(A29="","",A29) | E29: =IF(B29="","",B29)
C30: 12 | D30: =IF(A30="","",A30) | E30: =IF(B30="","",B30)
D31: =IF(A31="","",A31) | E31: =IF(B31="","",B31)
C32: 13 | D32: =IF(A32="","",A32) | E32: =IF(B32="","",B32)
D33: =IF(A33="","",A33) | E33: =IF(B33="","",B33)
C34: 14 | D34: =IF(A34="","",A34) | E34: =IF(B34="","",B34)
D35: =IF(A35="","",A35) | E35: =IF(B35="","",B35)
C36: 15 | D36: =IF(A36="","",A36) | E36: =IF(B36="","",B36)
D37: =IF(A37="","",A37) | E37: =IF(B37="","",B37)
C38: 16 | D38: =IF(A38="","",A38) | E38: =IF(B38="","",B38)
D39: =IF(A39="","",A39) | E39: =IF(B39="","",B39)
C40: 17 | D40: =IF(A40="","",A40) | E40: =IF(B40="","",B40)
D41: =IF(A41="","",A41) | E41: =IF(B41="","",B41)
C42: 18 | D42: =IF(A42="","",A42) | E42: =IF(B42="","",B42)
D43: =IF(A43="","",A43) | E43: =IF(B43="","",B43)
C44: 19 | D44: =IF(A44="","",A44) | E44: =IF(B44="","",B44)
D45: =IF(A45="","",A45) | E45: =IF(B45="","",B45)

Sheet 男子35,45歳
D4: 男子35才以上 ダブルス申込書（種目別）
A5: 選手氏名 | B5: 所属団体名 | C5: No | D5: 選手氏名・年齢 | F5: 所属団体名 | G5: 参考戦績 | H5: 登録
A6: 堺市太郎 | B6: 堺市クラブ | C6: 例 | D6: 堺市太郎 | E6: 36 | F6: 堺市クラブ | G6: 堺市オープン複優勝 | H6: ○
A7: 堺市次郎 | B7: 堺市クラブ | D7: 堺市次郎 | E7: 37 | F7: 堺市クラブ | G7: 堺市オープン複優勝 | H7: 未
C8: 1 | D8: =IF(A8="","",A8) | F8: =IF(B8="","",B8) | J8: ○
D9: =IF(A9="","",A9) | F9: =IF(B9="","",B9) | J9: 未
C10: 2 | D10: =IF(A10="","",A10) | F10: =IF(B10="","",B10)
D11: =IF(A11="","",A11) | F11: =IF(B11="","",B11)
C12: 3 | D12: =IF(A12="","",A12) | F12: =IF(B12="","",B12)
D13: =IF(A13="","",A13) | F13: =IF(B13="","",B13)
C14: 4 | D14: =IF(A14="","",A14) | F14: =IF(B14="","",B14)
D15: =IF(A15="","",A15) | F15: =IF(B15="","",B15)
C16: 5 | D16: =IF(A16="","",A16) | F16: =IF(B16="","",B16)
D17: =IF(A17="","",A17) | F17: =IF(B17="","",B17)
C18: 6 | D18: =IF(A18="","",A18) | F18: =IF(B18="","",B18)
D19: =IF(A19="","",A19) | F19: =IF(B19="","",B19)
C20: 7 | D20: =IF(A20="","",A20) | F20: =IF(B20="","",B20)
D21: =IF(A21="","",A21) | F21: =IF(B21="","",B21)
C22: 8 | D22: =IF(A22="","",A22) | F22: =IF(B22="","",B22)
D23: =IF(A23="","",A23) | F23: =IF(B23="","",B23)
C24: 9 | D24: =IF(A24="","",A24) | F24: =IF(B24="","",B24)
D25: =IF(A25="","",A25) | F25: =IF(B25="","",B25)
A27: 男子45才以上 ダブルス申込書（種目別）
C28: 1 | D28: =IF(A28="","",A28) | F28: =IF(B28="","",B28)
D29: =IF(A29="","",A29) | F29: =IF(B29="","",B29)
C30: 2 | D30: =IF(A30="","",A30) | F30: =IF(B30="","",B30)
D31: =IF(A31="","",A31) | F31: =IF(B31="","",B31)
C32: 3 | D32: =IF(A32="","",A32) | F32: =IF(B32="","",B32)
D33: =IF(A33="","",A33) | F33: =IF(B33="","",B33)
C34: 4 | D34: =IF(A34="","",A34) | F34: =IF(B34="","",B34)
D35: =IF(A35="","",A35) | F35: =IF(B35="","",B35)
C36: 5 | D36: =IF(A36="","",A36) | F36: =IF(B36="","",B36)
D37: =IF(A37="","",A37) | F37: =IF(B37="","",B37)
C38: 6 | D38: =IF(A38="","",A38) | F38: =IF(B38="","",B38)
D39: =IF(A39="","",A39) | F39: =IF(B39="","",B39)
C40: 7 | D40: =IF(A40="","",A40) | F40: =IF(B40="","",B40)
D41: =IF(A41="","",A41) | F41: =IF(B41="","",B41)
C42: 8 | D42: =IF(A42="","",A42) | F42: =IF(B42="","",B42)
D43: =IF(A43="","",A43) | F43: =IF(B43="","",B43)
C44: 9 | D44: =IF(A44="","",A44) | F44: =IF(B44="","",B44)
D45: =IF(A45="","",A45) | F45: =IF(B45="","",B45)

Sheet 男子50,55
D4: 男子50才以上 ダブルス申込書（種目別）
A5: 選手氏名 | B5: 所属団体名 | C5: No | D5: 選手氏名・年齢 | F5: 所属団体名 | G5: 参考戦績 | H5: 登録
A6: 堺市太郎 | B6: 堺市クラブ | C6: 例 | D6: 堺市太郎 | E6: 51 | F6: 堺市クラブ | G6: 堺市オープン複優勝 | H6: ○
A7: 堺市次郎 | B7: 堺市クラブ | D7: 堺市次郎 | E7: 52 | F7: 堺市クラブ | G7: 堺市オープン複優勝 | H7: 未
C8: 1 | D8: =IF(A8="","",A8) | F8: =IF(B8="","",B8) | J8: ○
D9: =IF(A9="","",A9) | F9: =IF(B9="","",B9) | J9: 未
C10: 2 | D10: =IF(A10="","",A10) | F10: =IF(B10="","",B10)
D11: =IF(A11="","",A11) | F11: =IF(B11="","",B11)
C12: 3 | D12: =IF(A12="","",A12) | F12: =IF(B12="","",B12)
D13: =IF(A13="","",A13) | F13: =IF(B13="","",B13)
C14: 4 | D14: =IF(A14="","",A14) | F14: =IF(B14="","",B14)
D15: =IF(A15="","",A15) | F15: =IF(B15="","",B15)
C16: 5 | D16: =IF(A16="","",A16) | F16: =IF(B16="","",B16)
D17: =IF(A17="","",A17) | F17: =IF(B17="","",B17)
C18: 6 | D18: =IF(A18="","",A18) | F18: =IF(B18="","",B18)
D19: =IF(A19="","",A19) | F19: =IF(B19="","",B19)
C20: 7 | D20: =IF(A20="","",A20) | F20: =IF(B20="","",B20)
D21: =IF(A21="","",A21) | F21: =IF(B21="","",B21)
C22: 8 | D22: =IF(A22="","",A22) | F22: =IF(B22="","",B22)
D23: =IF(A23="","",A23) | F23: =IF(B23="","",B23)
C24: 9 | D24: =IF(A24="","",A24) | F24: =IF(B24="","",B24)
D25: =IF(A25="","",A25) | F25: =IF(B25="","",B25)
A27: 男子55才以上 ダブルス申込書（種目別）
C28: 1 | D28: =IF(A28="","",A28) | F28: =IF(B28="","",B28)
D29: =IF(A29="","",A29) | F29: =IF(B29="","",B29)
C30: 2 | D30: =IF(A30="","",A30) | F30: =IF(B30="","",B30)
D31: =IF(A31="","",A31) | F31: =IF(B31="","",B31)
C32: 3 | D32: =IF(A32="","",A32) | F32: =IF(B32="","",B32)
D33: =IF(A33="","",A33) | F33: =IF(B33="","",B33)
C34: 4 | D34: =IF(A34="","",A34) | F34: =IF(B34="","",B34)
D35: =IF(A35="","",A35) | F35: =IF(B35="","",B35)
C36: 5 | D36: =IF(A36="","",A36) | F36: =IF(B36="","",B36)
D37: =IF(A37="","",A37) | F37: =IF(B37="","",B37)
C38: 6 | D38: =IF(A38="","",A38) | F38: =IF(B38="","",B38)
D39: =IF(A39="","",A39) | F39: =IF(B39="","",B39)
C40: 7 | D40: =IF(A40="","",A40) | F40: =IF(B40="","",B40)
D41: =IF(A41="","",A41) | F41: =IF(B41="","",B41)
C42: 8 | D42: =IF(A42="","",A42) | F42: =IF(B42="","",B42)
D43: =IF(A43="","",A43) | F43: =IF(B43="","",B43)
C44: 9 | D44: =IF(A44="","",A44) | F44: =IF(B44="","",B44)
D45: =IF(A45="","",A45) | F45: =IF(B45="","",B45)

Sheet 男子60-70歳
D4: 男子60才以上 ダブルス申込書（種目別）
A5: 選手氏名 | B5: 所属団体名 | C5: No | D5: sakai | F5: 所属団体名 | G5: 参考戦績 | H5: 登録
A6: 堺市太郎 | B6: 堺市クラブ | C6: 例 | D6: 堺市太郎 | E6: 61 | F6: 堺市クラブ | G6: 堺市オープン複優勝 | H6: ○
A7: 堺市次郎 | B7: 堺市クラブ | D7: 堺市次郎 | E7: 60 | F7: 堺市クラブ | G7: 堺市オープン複優勝 | H7: 未
C8: 1 | D8: =IF(A8="","",A8) | F8: =IF(B8="","",B8) | J8: ○
D9: =IF(A9="","",A9) | F9: =IF(B9="","",B9) | J9: 未
C10: 2 | D10: =IF(A10="","",A10) | F10: =IF(B10="","",B10)
D11: =IF(A11="","",A11) | F11: =IF(B11="","",B11)
C12: 3 | D12: =IF(A12="","",A12) | F12: =IF(B12="","",B12)
D13: =IF(A13="","",A13) | F13: =IF(B13="","",B13)
C14: 4 | D14: =IF(A14="","",A14) | F14: =IF(B14="","",B14)
D15: =IF(A15="","",A15) | F15: =IF(B15="","",B15)
C16: 5 | D16: =IF(A16="","",A16) | F16: =IF(B16="","",B16)
D17: =IF(A17="","",A17) | F17: =IF(B17="","",B17)
C18: 6 | D18: =IF(A18="","",A18) | F18: =IF(B18="","",B18)
D19: =IF(A19="","",A19) | F19: =IF(B19="","",B19)
A21: 男子65才以上 ダブルス申込書（種目別）
C22: 1 | D22: =IF(A22="","",A22) | F22: =IF(B22="","",B22)
D23: =IF(A23="","",A23) | F23: =IF(B23="","",B23)
C24: 2 | D24: =IF(A24="","",A24) | F24: =IF(B24="","",B24)
D25: =IF(A25="","",A25) | F25: =IF(B25="","",B25)
C26: 3 | D26: =IF(A26="","",A26) | F26: =IF(B26="","",B26)
D27: =IF(A27="","",A27) | F27: =IF(B27="","",B27)
C28: 4 | D28: =IF(A28="","",A28) | F28: =IF(B28="","",B28)
D29: =IF(A29="","",A29) | F29: =IF(B29="","",B29)
C30: 5 | D30: =IF(A30="","",A30) | F30: =IF(B30="","",B30)
D31: =IF(A31="","",A31) | F31: =IF(B31="","",B31)
C32: 6 | D32: =IF(A32="","",A32) | F32: =IF(B32="","",B32)
D33: =IF(A33="","",A33) | F33: =IF(B33="","",B33)
A35: 男子70才以上 ダブルス申込書（種目別）
C36: 1 | D36: =IF(A36="","",A36) | F36: =IF(B36="","",B36)
D37: =IF(A37="","",A37) | F37: =IF(B37="","",B37)
C38: 2 | D38: =IF(A38="","",A38) | F38: =IF(B38="","",B38)
D39: =IF(A39="","",A39) | F39: =IF(B39="","",B39)
C40: 3 | D40: =IF(A40="","",A40) | F40: =IF(B40="","",B40)
D41: =IF(A41="","",A41) | F41: =IF(B41="","",B41)
C42: 4 | D42: =IF(A42="","",A42) | F42: =IF(B42="","",B42)
D43: =IF(A43="","",A43) | F43: =IF(B43="","",B43)
C44: 5 | D44: =IF(A44="","",A44) | F44: =IF(B44="","",B44)
D45: =IF(A45="","",A45) | F45: =IF(B45="","",B45)

Sheet 女子40-60歳
D4: 女子40才以上 ダブルス申込書（種目別）
A5: 選手氏名 | B5: 所属団体名 | C5: No | D5: 選手氏名・年齢 | F5: 所属団体名 | G5: 参考戦績 | H5: 登録
A6: 堺市花子 | B6: 堺市クラブ | C6: 例 | D6: 堺市花子 | E6: 42 | F6: 堺市クラブ | G6: 堺市オープン複優勝 | H6: ○
A7: 堺市百恵 | B7: 堺市クラブ | D7: 堺市百恵 | E7: 41 | F7: 堺市クラブ | G7: 堺市オープン複優勝 | H7: 未
C8: 1 | D8: =IF(A8="","",A8) | F8: =IF(B8="","",B8) | J8: ○
D9: =IF(A9="","",A9) | F9: =IF(B9="","",B9) | J9: 未
C10: 2 | D10: =IF(A10="","",A10) | F10: =IF(B10="","",B10)
D11: =IF(A11="","",A11) | F11: =IF(B11="","",B11)
C12: 3 | D12: =IF(A12="","",A12) | F12: =IF(B12="","",B12)
D13: =IF(A13="","",A13) | F13: =IF(B13="","",B13)
C14: 4 | D14: =IF(A14="","",A14) | F14: =IF(B14="","",B14)
D15: =IF(A15="","",A15) | F15: =IF(B15="","",B15)
C16: 5 | D16: =IF(A16="","",A16) | F16: =IF(B16="","",B16)
D17: =IF(A17="","",A17) | F17: =IF(B17="","",B17)
C18: 6 | D18: =IF(A18="","",A18) | F18: =IF(B18="","",B18)
D19: =IF(A19="","",A19) | F19: =IF(B19="","",B19)
C20: 7 | D20: =IF(A20="","",A20) | F20: =IF(B20="","",B20)
D21: =IF(A21="","",A21) | F21: =IF(B21="","",B21)
A23: 女子50才以上 ダブルス申込書（種目別）
C24: 1 | D24: =IF(A24="","",A24) | F24: =IF(B24="","",B24)
D25: =IF(A25="","",A25) | F25: =IF(B25="","",B25)
C26: 2 | D26: =IF(A26="","",A26) | F26: =IF(B26="","",B26)
D27: =IF(A27="","",A27) | F27: =IF(B27="","",B27)
C28: 3 | D28: =IF(A28="","",A28) | F28: =IF(B28="","",B28)
D29: =IF(A29="","",A29) | F29: =IF(B29="","",B29)
C30: 4 | D30: =IF(A30="","",A30) | F30: =IF(B30="","",B30)
D31: =IF(A31="","",A31) | F31: =IF(B31="","",B31)
C32: 5 | D32: =IF(A32="","",A32) | F32: =IF(B32="","",B32)
D33: =IF(A33="","",A33) | F33: =IF(B33="","",B33)
C34: 6 | D34: =IF(A34="","",A34) | F34: =IF(B34="","",B34)
D35: =IF(A35="","",A35) | F35: =IF(B35="","",B35)
C36: 7 | D36: =IF(A36="","",A36) | F36: =IF(B36="","",B36)
D37: =IF(A37="","",A37) | F37: =IF(B37="","",B37)
A39: 女子60才以上 ダブルス申込書（種目別）
C40: 1 | D40: =IF(A40="","",A40) | F40: =IF(B40="","",B40)
D41: =IF(A41="","",A41) | F41: =IF(B41="","",B41)
C42: 2 | D42: =IF(A42="","",A42) | F42: =IF(B42="","",B42)
D43: =IF(A43="","",A43) | F43: =IF(B43="","",B43)
C44: 3 | D44: =IF(A44="","",A44) | F44: =IF(B44="","",B44)
D45: =IF(A45="","",A45) | F45: =IF(B45="","",B45)

Sheet Sheet3
