Workbook
Name _Hlk61120810: 申込書表紙!#REF!

Sheet 申込書表紙
B2: 第17回 | C2: 堺市シニアオープンテニス大会申込書(メール用)
A5: 必ず記入例に準じて、選手名と所属団体名を入力して下さい。 各種目のエントリー総数はエントリー数により自動計算されます。
B7: 男子60才以上 | C7: =COUNTA('男子60-70歳 '!A8:A19)/2 -> 0 | E7: ペア | F7: 男子65才以上 | H7: =COUNTA('男子60-70歳 '!A22:A35)/2 -> 0 | I7: ペア | J7: 男子70才以上 | K7: =COUNTA('男子60-70歳 '!A38:A45)/2 -> 0 | L7: ペア
B8: 女子60才以上 | C8: =COUNTA('女子60-70歳'!A8:A21)/2 -> 0 | E8: ペア | F8: 女子65才以上 | H8: =COUNTA('女子60-70歳'!A24:A37)/2 -> 0 | I8: ペア | J8: 女子70才以上 | K8: =COUNTA('女子60-70歳'!A40:A45)/2 -> 0 | L8: ペア
J10: 合 計 | K10: =SUM(C7:D9)+SUM(H7:H9)+SUM(K7:K8) -> 0 | L10: ペア
A14: 団 体 名 | C14: ( | K14: ）
A15: 責任者氏名 | C15: ( | K15: ）
A16: 住 所 | C16: ( | L16: ）
A17: TEL | C17: ( | I17: ）
A18: 以上、参加料 | C18: ( | D18: =K10*3000 -> 0 | G18: ）円を試合当日に支払いします。
B19: 所属クラブが堺市テニス協会に加盟・未加盟のどちらかをプルダウンで選んで下さい。
C20: ・ | O20: 加盟
O21: 未加盟
C22: 色セルのみ入力して下さい。
A24: 必ず上記団体名、責任者氏名、住所、TEL、参加料金を記入し、この用紙も返送願います。当日領収書を発行いたします。

Sheet 男子60-70歳 
D4: 男子60才以上 ダブルス申込書（シニアオープン）
A5: 選手氏名 | B5: 所属団体名 | C5: No | D5: 選手氏名・年齢 | F5: 所属団体名 | G5: 参考戦績 | H5: STP･JOP ﾗﾝｷﾝｸﾞ
A6: 堺市花子 | B6: 堺市クラブ | C6: 例 | D6: 堺市花子 | E6: 60 | F6: 堺市クラブ | G6: 堺市オープン複優勝 | H6: STP 20
A7: 堺市百恵 | B7: 堺市クラブ | D7: 堺市百恵 | E7: 61 | F7: 堺市クラブ | G7: 堺市オープン複優勝 | H7: STP 20
C8: 1 | D8: =IF(A8="","",A8) | F8: =IF(B8="","",B8)
D9: =IF(A9="","",A9) | F9: =IF(B9="","",B9)
C10: 2 | D10: =IF(A10="","",A10) | F10: =IF(B10="","",B10)
D11: =IF(A11="","",A11) | F11: =IF(B11="","",B11)
C12: 3 | D12: =IF(A12="","",A12) | F12: =IF(B12="","",B12)
D13: =IF(A13="","",A13) | F13: =IF(B13="","",B13)
C14: 4 | D14: =IF(A14="","",A14) | F14: =IF(B14="","",B14)
D15: =IF(A15="","",A15) | F15: =IF(B15="","",B15)
C16: 5 | D16: =IF(A16="","",A16) | F16: =IF(B16="","",B16)
D17: =IF(A17="","",A17) | F17: =IF(B17="","",B17)
C18: 6 | D18: =IF(A18="","",A18) | F18: =IF(B18="","",B18)
D19: =IF(A19="","",A19) | F19: =IF(B19="","",B19)
A21: 男子65才以上 ダブルス申込書（シニアオープン）
C22: 1 | D22: =IF(A22="","",A22) | F22: =IF(B22="","",B22)
D23: =IF(A23="","",A23) | F23: =IF(B23="","",B23)
C24: 2 | D24: =IF(A24="","",A24) | F24: =IF(B24="","",B24)
D25: =IF(A25="","",A25) | F25: =IF(B25="","",B25)
C26: 3 | D26: =IF(A26="","",A26) | F26: =IF(B26="","",B26)
D27: =IF(A27="","",A27) | F27: =IF(B27="","",B27)
C28: 4 | D28: =IF(A28="","",A28) | F28: =IF(B28="","",B28)
D29: =IF(A29="","",A29) | F29: =IF(B29="","",B29)
C30: 5 | D30: =IF(A30="","",A30) | F30: =IF(B30="","",B30)
D31: =IF(A31="","",A31) | F31: =IF(B31="","",B31)
C32: 6 | D32: =IF(A32="","",A32) | F32: =IF(B32="","",B32)
D33: =IF(A33="","",A33) | F33: =IF(B33="","",B33)
C34: 7 | D34: =IF(A34="","",A34) | F34: =IF(B34="","",B34)
D35: =IF(A35="","",A35) | F35: =IF(B35="","",B35)
A37: 男子70才以上 ダブルス申込書（シニアオープン）
C38: 1 | D38: =IF(A38="","",A38) | F38: =IF(B38="","",B38)
D39: =IF(A39="","",A39) | F39: =IF(B39="","",B39)
C40: 2 | D40: =IF(A40="","",A40) | F40: =IF(B40="","",B40)
D41: =IF(A41="","",A41) | F41: =IF(B41="","",B41)
C42: 3 | D42: =IF(A42="","",A42) | F42: =IF(B42="","",B42)
D43: =IF(A43="","",A43) | F43: =IF(B43="","",B43)
C44: 4 | D44: =IF(A44="","",A44) | F44: =IF(B44="","",B44)
D45: =IF(A45="","",A45) | F45: =IF(B45="","",B45)

Sheet 女子60-70歳
D4: 女子60才以上 ダブルス申込書（シニアオープン）
A5: 選手氏名 | B5: 所属団体名 | C5: No | D5: 選手氏名・年齢 | F5: 所属団体名 | G5: 参考戦績 | H5: STP･JOP ﾗﾝｷﾝｸﾞ
A6: 堺市花子 | B6: 堺市クラブ | C6: 例 | D6: 堺市花子 | E6: 60 | F6: 堺市クラブ | G6: 堺市オープン複優勝 | H6: STP 20
A7: 堺市百恵 | B7: 堺市クラブ | D7: 堺市百恵 | E7: 61 | F7: 堺市クラブ | G7: 堺市オープン複優勝 | H7: STP 20
C8: 1 | D8: =IF(A8="","",A8) | F8: =IF(B8="","",B8)
D9: =IF(A9="","",A9) | F9: =IF(B9="","",B9)
C10: 2 | D10: =IF(A10="","",A10) | F10: =IF(B10="","",B10)
D11: =IF(A11="","",A11) | F11: =IF(B11="","",B11)
C12: 3 | D12: =IF(A12="","",A12) | F12: =IF(B12="","",B12)
D13: =IF(A13="","",A13) | F13: =IF(B13="","",B13)
C14: 4 | D14: =IF(A14="","",A14) | F14: =IF(B14="","",B14)
D15: =IF(A15="","",A15) | F15: =IF(B15="","",B15)
C16: 5 | D16: =IF(A16="","",A16) | F16: =IF(B16="","",B16)
D17: =IF(A17="","",A17) | F17: =IF(B17="","",B17)
C18: 6 | D18: =IF(A18="","",A18) | F18: =IF(B18="","",B18)
D19: =IF(A19="","",A19) | F19: =IF(B19="","",B19)
C20: 7 | D20: =IF(A20="","",A20) | F20: =IF(B20="","",B20)
D21: =IF(A21="","",A21) | F21: =IF(B21="","",B21)
A23: 女子65才以上 ダブルス申込書（シニアオープン）
C24: 1 | D24: =IF(A24="","",A24) | F24: =IF(B24="","",B24)
D25: =IF(A25="","",A25) | F25: =IF(B25="","",B25)
C26: 2 | D26: =IF(A26="","",A26) | F26: =IF(B26="","",B26)
D27: =IF(A27="","",A27) | F27: =IF(B27="","",B27)
C28: 3 | D28: =IF(A28="","",A28) | F28: =IF(B28="","",B28)
D29: =IF(A29="","",A29) | F29: =IF(B29="","",B29)
C30: 4 | D30: =IF(A30="","",A30) | F30: =IF(B30="","",B30)
D31: =IF(A31="","",A31) | F31: =IF(B31="","",B31)
C32: 5 | D32: =IF(A32="","",A32) | F32: =IF(B32="","",B32)
D33: =IF(A33="","",A33) | F33: =IF(B33="","",B33)
C34: 6 | D34: =IF(A34="","",A34) | F34: =IF(B34="","",B34)
D35: =IF(A35="","",A35) | F35: =IF(B35="","",B35)
C36: 7 | D36: =IF(A36="","",A36) | F36: =IF(B36="","",B36)
D37: =IF(A37="","",A37) | F37: =IF(B37="","",B37)
A39: 女子70才以上 ダブルス申込書（シニアオープン）
C40: 1 | D40: =IF(A40="","",A40) | F40: =IF(B40="","",B40)
D41: =IF(A41="","",A41) | F41: =IF(B41="","",B41)
C42: 2 | D42: =IF(A42="","",A42) | F42: =IF(B42="","",B42)
D43: =IF(A43="","",A43) | F43: =IF(B43="","",B43)
C44: 3 | D44: =IF(A44="","",A44) | F44: =IF(B44="","",B44)
D45: =IF(A45="","",A45) | F45: =IF(B45="","",B45)

Sheet Sheet3
